Report for POE-Component-EasyDBI-1.23

Back
From: metabase:user:322078bc-2aae-11df-837a-5e0a49663a4f
Subject: PASS POE-Component-EasyDBI-1.23 v5.14.1 
Date: 2011-07-01T12:37:47Z

This distribution has been tested as part of the CPAN Testers
project, supporting the Perl programming language.  See
http://wiki.cpantesters.org/ for more information or email
questions to cpan-testers-discuss@perl.org


--

Dear XANTUS,

This is a computer-generated error report created automatically by
CPANPLUS, version 0.9105. Testers personal comments may appear
at the end of this report.

MAKE TEST passed: C:\Perl32\bin\perl.exe "-MExtUtils::Command::MM" "-e" "test_harness(0, 'blib\lib', 'blib\arch')" t/*.t
Unquoted string "i" may clash with future reserved word at t/1.t line 242.
t/1.t .. ok
Unquoted string "i" may clash with future reserved word at t/2.t line 266.

You should see an error next, this is intended
# DBD::SQLite::db prepare failed: near "PDATE": syntax error
# Query affected 3 rows
t/2.t .. ok
Unquoted string "i" may clash with future reserved word at t/3.t line 268.
# Query affected 3 rows
t/3.t .. ok
All tests successful.
Files=3, Tests=51,  5 wallclock secs ( 0.11 usr +  0.02 sys =  0.13 CPU)
Result: PASS

[MSG] [Fri Jul  1 13:37:45 2011] Sending test report for 'POE-Component-EasyDBI-1.23'

This report was machine-generated by CPANPLUS::Dist::YACSmoke 0.64.

------------------------------
ENVIRONMENT AND OTHER CONTEXT
------------------------------

Environment variables:

    AUTOMATED_TESTING = 1
    COMSPEC = C:\WINDOWS\system32\cmd.exe
    NUMBER_OF_PROCESSORS = 1
    PATH = C:\Perl32\bin;C:\mingw64\bin;C:\WINDOWS\system32;C:\WINDOWS;C:\WINDOWS\System32\Wbem
    PERL5LIB = ;C:\Perl32\.cpanplus\5.14.1\build\POE-Component-EasyDBI-1.23\blib\lib;C:\Perl32\.cpanplus\5.14.1\build\POE-Component-EasyDBI-1.23\blib\arch
    PERL5_CPANIDX_URL = http://cpan.mirror.local/cpanidx/
    PERL5_CPANPLUS_IS_RUNNING = 2800
    PERL5_CPANPLUS_IS_VERSION = 0.9105
    PERL_EXTUTILS_AUTOINSTALL = --defaultdeps
    PERL_MM_USE_DEFAULT = 1
    PROCESSOR_IDENTIFIER = x86 Family 6 Model 30 Stepping 5, GenuineIntel
    TERM = dumb

Perl special variables (and OS-specific diagnostics, for MSWin32):

    Perl: $^X = C:\Perl32\bin\perl.exe
    UID:  $<  = 0
    EUID: $>  = 0
    GID:  $(  = 0
    EGID: $)  = 0
    Win32::GetOSName = Win2003
    Win32::GetOSVersion = Service Pack 2, 5, 2, 3790, 2, 2, 0, 272, 3
    Win32::IsAdminUser = 1


-------------------------------


--

Summary of my perl5 (revision 5 version 14 subversion 1) configuration:
   
  Platform:
    osname=MSWin32, osvers=5.2, archname=MSWin32-x86-multi-thread
    uname=''
    config_args='undef'
    hint=recommended, useposix=true, d_sigaction=undef
    useithreads=define, usemultiplicity=define
    useperlio=define, d_sfio=undef, uselargefiles=define, usesocks=undef
    use64bitint=undef, use64bitall=undef, uselongdouble=undef
    usemymalloc=n, bincompat5005=undef
  Compiler:
    cc='gcc', ccflags =' -s -O2 -DWIN32  -DPERL_TEXTMODE_SCRIPTS -DPERL_IMPLICIT_CONTEXT -DPERL_IMPLICIT_SYS -fno-strict-aliasing -mms-bitfields',
    optimize='-s -O2',
    cppflags='-DWIN32'
    ccversion='', gccversion='4.4.3', gccosandvers=''
    intsize=4, longsize=4, ptrsize=4, doublesize=8, byteorder=1234
    d_longlong=undef, longlongsize=8, d_longdbl=define, longdblsize=12
    ivtype='long', ivsize=4, nvtype='double', nvsize=8, Off_t='long long', lseeksize=8
    alignbytes=8, prototype=define
  Linker and Libraries:
    ld='g++', ldflags ='-s -L"c:\perl32\lib\CORE" -L"C:\MinGW64\lib"'
    libpth=C:\MinGW64\lib
    libs=-lmoldname -lkernel32 -luser32 -lgdi32 -lwinspool -lcomdlg32 -ladvapi32 -lshell32 -lole32 -loleaut32 -lnetapi32 -luuid -lws2_32 -lmpr -lwinmm -lversion -lodbc32 -lodbccp32 -lcomctl32
    perllibs=-lmoldname -lkernel32 -luser32 -lgdi32 -lwinspool -lcomdlg32 -ladvapi32 -lshell32 -lole32 -loleaut32 -lnetapi32 -luuid -lws2_32 -lmpr -lwinmm -lversion -lodbc32 -lodbccp32 -lcomctl32
    libc=, so=dll, useshrplib=true, libperl=libperl514.a
    gnulibc_version=''
  Dynamic Linking:
    dlsrc=dl_win32.xs, dlext=dll, d_dlsymun=undef, ccdlflags=' '
    cccdlflags=' ', lddlflags='-mdll -s -L"c:\perl32\lib\CORE" -L"C:\MinGW64\lib"'


Characteristics of this binary (from libperl): 
  Compile-time options: MULTIPLICITY PERL_DONT_CREATE_GVSV
                        PERL_IMPLICIT_CONTEXT PERL_IMPLICIT_SYS
                        PERL_MALLOC_WRAP PERL_PRESERVE_IVUV PL_OP_SLAB_ALLOC
                        USE_ITHREADS USE_LARGE_FILES USE_PERLIO
                        USE_PERL_ATOF
  Built under MSWin32
  Compiled at Jul  1 2011 10:26:41
  %ENV:
    PERL5LIB=";C:\Perl32\.cpanplus\5.14.1\build\POE-Component-EasyDBI-1.23\blib\lib;C:\Perl32\.cpanplus\5.14.1\build\POE-Component-EasyDBI-1.23\blib\arch"
    PERL5_CPANIDX_URL="http://cpan.mirror.local/cpanidx/"
    PERL5_CPANPLUS_IS_RUNNING="2800"
    PERL5_CPANPLUS_IS_VERSION="0.9105"
    PERL_EXTUTILS_AUTOINSTALL="--defaultdeps"
    PERL_MM_USE_DEFAULT="1"
  @INC:
    C:\Perl32\.cpanplus\5.14.1\build\POE-Component-EasyDBI-1.23\blib\lib
    C:\Perl32\.cpanplus\5.14.1\build\POE-Component-EasyDBI-1.23\blib\arch
    C:/perl32/site/lib
    C:/perl32/lib
    .