Report for HTML-Fraction-0.40

Back
From: metabase:user:322078bc-2aae-11df-837a-5e0a49663a4f
Subject: PASS HTML-Fraction-0.40 v5.13.3 GNU/Linux
Date: 2011-02-22T02:46:21Z

This distribution has been tested as part of the CPAN Testers
project, supporting the Perl programming language.  See
http://wiki.cpantesters.org/ for more information or email
questions to cpan-testers-discuss@perl.org


--

Dear LBROCARD,
    
This is a computer-generated error report created automatically by
CPANPLUS, version 0.9101. Testers personal comments may appear 
at the end of this report.

MAKE TEST passed:
t/pod.t ........... skipped: Test::Pod 1.14 required for testing POD: Can't locate Test/Pod.pm in @INC (@INC contains: /home/cpan/pit/thr/conf/perl-5.13.3/.cpanplus/5.13.3/build/HTML-Fraction-0.40/blib/lib /home/cpan/pit/thr/conf/perl-5.13.3/.cpanplus/5.13.3/build/HTML-Fraction-0.40/blib/arch /home/cpan/pit/thr/perl-5.13.3/lib/site_perl/5.13.3/x86_64-linux-thread-multi /home/cpan/pit/thr/perl-5.13.3/lib/site_perl/5.13.3 /home/cpan/pit/thr/perl-5.13.3/lib/5.13.3/x86_64-linux-thread-multi /home/cpan/pit/thr/perl-5.13.3/lib/5.13.3) at (eval 4) line 2.
t/pod_coverage.t .. skipped: Test::Pod::Coverage 1.04 required for testing POD coverage
t/simple.t ........ ok
All tests successful.
Files=3, Tests=16,  0 wallclock secs ( 0.02 usr  0.00 sys +  0.05 cusr  0.01 csys =  0.08 CPU)
Result: PASS

[MSG] [Tue Feb 22 02:46:16 2011] Sending test report for 'HTML-Fraction-0.40'

This report was machine-generated by CPANPLUS::Dist::YACSmoke 0.62.
Powered by minismokebox version 0.42

------------------------------
ENVIRONMENT AND OTHER CONTEXT
------------------------------

Environment variables:

    AUTOMATED_TESTING = 1
    LANG = en_US
    LC_COLLATE = C
    PATH = /usr/local/bin:/usr/bin:/bin:/usr/games:/usr/lib64/java/bin:/usr/lib64/qt/bin:/usr/share/texmf/bin:.
    PERL5LIB = :/home/cpan/pit/thr/conf/perl-5.13.3/.cpanplus/5.13.3/build/HTML-Fraction-0.40/blib/lib:/home/cpan/pit/thr/conf/perl-5.13.3/.cpanplus/5.13.3/build/HTML-Fraction-0.40/blib/arch
    PERL5_CPANPLUS_IS_RUNNING = 7428
    PERL5_CPANPLUS_IS_VERSION = 0.9101
    PERL5_MINISMOKEBOX = 0.42
    PERL5_YACSMOKE_BASE = /home/cpan/pit/thr/conf/perl-5.13.3
    PERL_EXTUTILS_AUTOINSTALL = --defaultdeps
    PERL_MM_USE_DEFAULT = 1
    SHELL = /bin/bash
    TERM = screen

Perl special variables (and OS-specific diagnostics, for MSWin32):

    Perl: $^X = /home/cpan/pit/thr/perl-5.13.3/bin/perl5.13.3
    UID:  $<  = 1001
    EUID: $>  = 1001
    GID:  $(  = 100 100
    EGID: $)  = 100 100


-------------------------------


--

Summary of my perl5 (revision 5 version 13 subversion 3) configuration:
   
  Platform:
    osname=linux, osvers=2.6.33.4, archname=x86_64-linux-thread-multi
    uname='linux slack64 2.6.33.4 #3 smp wed may 12 23:13:09 cdt 2010 x86_64 intel(r) xeon(r) cpu e5520 @ 2.27ghz genuineintel gnulinux '
    config_args='-des -Dprefix=/home/cpan/pit/thr/perl-5.13.3 -Dusethreads -Dusedevel'
    hint=recommended, useposix=true, d_sigaction=define
    useithreads=define, usemultiplicity=define
    useperlio=define, d_sfio=undef, uselargefiles=define, usesocks=undef
    use64bitint=define, use64bitall=define, uselongdouble=undef
    usemymalloc=n, bincompat5005=undef
  Compiler:
    cc='cc', ccflags ='-D_REENTRANT -D_GNU_SOURCE -fno-strict-aliasing -pipe -fstack-protector -I/usr/local/include -D_LARGEFILE_SOURCE -D_FILE_OFFSET_BITS=64',
    optimize='-O2',
    cppflags='-D_REENTRANT -D_GNU_SOURCE -fno-strict-aliasing -pipe -fstack-protector -I/usr/local/include'
    ccversion='', gccversion='4.4.4', gccosandvers=''
    intsize=4, longsize=8, ptrsize=8, doublesize=8, byteorder=12345678
    d_longlong=define, longlongsize=8, d_longdbl=define, longdblsize=16
    ivtype='long', ivsize=8, nvtype='double', nvsize=8, Off_t='off_t', lseeksize=8
    alignbytes=8, prototype=define
  Linker and Libraries:
    ld='cc', ldflags =' -fstack-protector -L/usr/local/lib'
    libpth=/usr/local/lib /lib /usr/lib /lib64 /usr/lib64 /usr/local/lib64
    libs=-lnsl -lgdbm -ldb -ldl -lm -lcrypt -lutil -lpthread -lc
    perllibs=-lnsl -ldl -lm -lcrypt -lutil -lpthread -lc
    libc=, so=so, useshrplib=false, libperl=libperl.a
    gnulibc_version='2.11.1'
  Dynamic Linking:
    dlsrc=dl_dlopen.xs, dlext=so, d_dlsymun=undef, ccdlflags='-Wl,-E'
    cccdlflags='-fPIC', lddlflags='-shared -O2 -L/usr/local/lib -fstack-protector'


Characteristics of this binary (from libperl): 
  Compile-time options: MULTIPLICITY PERL_DONT_CREATE_GVSV
                        PERL_IMPLICIT_CONTEXT PERL_MALLOC_WRAP PERL_USE_DEVEL
                        USE_64_BIT_ALL USE_64_BIT_INT USE_ITHREADS
                        USE_LARGE_FILES USE_PERLIO USE_PERL_ATOF
                        USE_REENTRANT_API
  Built under linux
  Compiled at Feb 18 2011 12:04:52
  %ENV:
    PERL5LIB=":/home/cpan/pit/thr/conf/perl-5.13.3/.cpanplus/5.13.3/build/HTML-Fraction-0.40/blib/lib:/home/cpan/pit/thr/conf/perl-5.13.3/.cpanplus/5.13.3/build/HTML-Fraction-0.40/blib/arch"
    PERL5_CPANPLUS_IS_RUNNING="7428"
    PERL5_CPANPLUS_IS_VERSION="0.9101"
    PERL5_MINISMOKEBOX="0.42"
    PERL5_YACSMOKE_BASE="/home/cpan/pit/thr/conf/perl-5.13.3"
    PERL_EXTUTILS_AUTOINSTALL="--defaultdeps"
    PERL_MM_USE_DEFAULT="1"
  @INC:
    /home/cpan/pit/thr/conf/perl-5.13.3/.cpanplus/5.13.3/build/HTML-Fraction-0.40/blib/lib
    /home/cpan/pit/thr/conf/perl-5.13.3/.cpanplus/5.13.3/build/HTML-Fraction-0.40/blib/arch
    /home/cpan/pit/thr/perl-5.13.3/lib/site_perl/5.13.3/x86_64-linux-thread-multi
    /home/cpan/pit/thr/perl-5.13.3/lib/site_perl/5.13.3
    /home/cpan/pit/thr/perl-5.13.3/lib/5.13.3/x86_64-linux-thread-multi
    /home/cpan/pit/thr/perl-5.13.3/lib/5.13.3
    .