CGI v4.57 Perl 5 v5.37.8 MSWin32-x64-multi-thread
- Status
- Pass
- From
- twata
- Dist
-
CGI v4.57
- Platform
- Perl 5 v5.37.8 MSWin32-x64-multi-thread
- Date
- 2023-05-20 03:36:43
- ID
- f0aba86a-7148-1014-9611-51f3efaa1848
This distribution has been tested as part of the CPAN Testers
project, supporting the Perl programming language. See
http://wiki.cpantesters.org/ for more information or email
questions to cpan-testers-discuss@perl.org
--
Dear Lee Johnson,
This is a computer-generated report for CGI-4.57
on perl 5.37.8, created by CPAN-Reporter-1.2019.
Thank you for uploading your work to CPAN. Congratulations!
All tests were successful.
Sections of this report:
* Tester comments
* Program output
* Prerequisites
* Environment and other context
------------------------------
TESTER COMMENTS
------------------------------
Additional comments from tester:
none provided
------------------------------
PROGRAM OUTPUT
------------------------------
Output from 'C:\winlibs-x86_64-posix-seh-gcc-12.2.0-llvm-15.0.7-mingw-w64msvcrt-10.0.0-r4\mingw64\bin\gmake.EXE test':
"C:\WinLibs\Perl-5.37.8\bin\perl.exe" "-MExtUtils::Command::MM" "-MTest::Harness" "-e" "undef *Test::Harness::Switches; test_harness(0, 'blib\lib', 'blib\arch')" t/*.t t/headers/*.t
t/append_query.t ............ ok
t/arbitrary_handles.t ....... ok
t/autoescape.t .............. ok
t/can.t ..................... ok
[Sat May 20 12:36:17 2023] carp.t: foo at C:\WinLibs\Perl-5.37.8\cpan\build\CGI-4.57-0\blib\lib/CGI/Carp.pm line 360.
t/carp.t .................... ok
# cgi-lib.pl routines
private_tempfiles has been deprecated at C:\WinLibs\Perl-5.37.8\cpan\build\CGI-4.57-0\blib\lib/CGI.pm line 3238.
t/cgi.t ..................... ok
t/changes.t ................. skipped: Test::CPAN::Changes required for this test
t/charset.t ................. ok
t/checkbox_group.t .......... ok
t/command_line.t ............ skipped: No relevant to Windows
t/compiles_pod.t ............ ok
t/cookie.t .................. ok
t/delete.t .................. ok
t/Dump.t .................... ok
t/end_form.t ................ ok
t/form.t .................... ok
t/function.t ................ ok
t/gh-155.t .................. ok
t/headers.t ................. ok
t/headers/attachment.t ...... ok
t/headers/charset.t ......... ok
t/headers/cookie.t .......... ok
t/headers/default.t ......... ok
t/headers/nph.t ............. ok
t/headers/p3p.t ............. ok
t/headers/target.t .......... ok
t/headers/type.t ............ ok
t/hidden.t .................. ok
t/html.t .................... ok
t/html_functions.t .......... ok
t/http.t .................... ok
t/init.t .................... ok
t/multipart_globals.t ....... ok
t/multipart_init.t .......... ok
t/multipart_start.t ......... ok
t/no_tabindex.t ............. ok
t/param_fetch.t ............. ok
t/param_list_context.t ...... ok
t/popup_menu.t .............. ok
t/postdata.t ................ ok
CGI::Pretty is DEPRECATED and will be removed in a future release. Please see https://github.com/leejo/CGI.pm/issues/162 for more information at C:\WinLibs\Perl-5.37.8\cpan\build\CGI-4.57-0\blib\lib/CGI/Pretty.pm line 20.
t/pretty.t .................. ok
t/push.t .................... ok
t/query_string.t ............ ok
t/redirect_query_string.t ... ok
t/request.t ................. ok
t/rt-31107.t ................ ok
t/rt-52469.t ................ ok
t/rt-57524.t ................ ok
t/rt-75628.t ................ ok
t/rt-84767.t ................ ok
t/save_read_roundtrip.t ..... ok
t/sorted.t .................. ok
t/start_end_asterisk.t ...... ok
t/start_end_end.t ........... ok
t/start_end_start.t ......... ok
t/unescapeHTML.t ............ ok
t/upload.t .................. ok
t/upload_quoted_unquoted.t .. ok
t/uploadInfo.t .............. ok
t/url.t ..................... ok
t/user_agent.t .............. ok
t/utf8.t .................... ok
t/util-58.t ................. ok
t/util.t .................... ok
All tests successful.
Files=64, Tests=1581, 30 wallclock secs ( 0.36 usr + 0.17 sys = 0.53 CPU)
Result: PASS
------------------------------
PREREQUISITES
------------------------------
Prerequisite modules loaded:
requires:
Module Need Have
------------------- -------- --------
Carp 0 1.54
Config 0 5.037008
Encode 0 3.19
Exporter 0 5.77
File::Spec 0.82 3.88
File::Temp 0.17 0.2311
HTML::Entities 3.69 3.81
if 0 0.0610
overload 0 1.36
parent 0.225 0.239
perl 5.008001 5.037008
strict 0 1.12
utf8 0 1.25
warnings 0 1.61
build_requires:
Module Need Have
------------------- -------- --------
Cwd 0 3.88
ExtUtils::MakeMaker 0 7.70
File::Find 0 1.42
IO::File 0 1.51
IO::Handle 0 1.51
POSIX 0 2.11
Test::More 0.98 1.302194
Test::NoWarnings 0 1.06
Test::Warn 0.3 0.37
configure_requires:
Module Need Have
------------------- -------- --------
ExtUtils::MakeMaker 0 7.70
------------------------------
ENVIRONMENT AND OTHER CONTEXT
------------------------------
Environment variables:
COMSPEC = C:\WINDOWS\system32\cmd.exe
LC_ALL = C
NONINTERACTIVE_TESTING = 1
NUMBER_OF_PROCESSORS = 4
PATH = C:\home\cape5378\perl5\bin;C:\WinLibs\local\bin;C:\WinLibs\Perl-5.37.8\bin;C:\winlibs-x86_64-posix-seh-gcc-12.2.0-llvm-15.0.7-mingw-w64msvcrt-10.0.0-r4\mingw64\bin;C:\WinLibs\build-openssl\bin;C:\WINDOWS\system32;C:\WINDOWS;C:\WINDOWS\System32\Wbem;C:\WINDOWS\System32\WindowsPowerShell\v1.0
PERL5LIB = C:\home\cape5378\perl5\lib\perl5
PERL5OPT =
PERL5_CPANPLUS_IS_RUNNING = 9620
PERL5_CPAN_IS_RUNNING = 9620
PERL_LOCAL_LIB_ROOT = C:\home\cape5378\perl5
PERL_MB_OPT = --install_base "C:\\home\\cape5378\\perl5"
PERL_MM_OPT = INSTALL_BASE=C:\\home\\cape5378\\perl5
PERL_MM_USE_DEFAULT = 1
PERL_USE_UNSAFE_INC = 1
PROCESSOR_IDENTIFIER = Intel64 Family 6 Model 58 Stepping 9, GenuineIntel
TEMP = C:\Users\USER\AppData\Local\Temp
TERM = dumb
TUGI_PERLVER = 5.037008
Perl special variables (and OS-specific diagnostics, for MSWin32):
$^X = C:\WinLibs\Perl-5.37.8\bin\perl.exe
$UID/$EUID = 0 / 0
$GID = 0
$EGID = 0
Win32::GetOSName = Win8.1
Win32::GetOSVersion = , 6, 3, 9600, 2, 0, 0, 256, 1
Win32::FsType = NTFS
Win32::IsAdminUser = 0
Perl module toolchain versions installed:
Module Have
------------------- --------
CPAN 2.36
CPAN::Meta 2.150010
Cwd 3.88
ExtUtils::CBuilder 0.280238
ExtUtils::Command 7.70
ExtUtils::Install 2.22
ExtUtils::MakeMaker 7.70
ExtUtils::Manifest 1.75
ExtUtils::ParseXS 3.49
File::Spec 3.88
JSON 4.10
JSON::PP 4.16
Module::Build 0.42_33
Module::Signature n/a
Parse::CPAN::Meta 2.150010
Test2 1.302194
Test::Harness 3.44
Test::More 1.302194
YAML 1.30
YAML::Syck n/a
version 0.9929
--
Summary of my perl5 (revision 5 version 37 subversion 8) configuration:
Platform:
osname=MSWin32
osvers=6.3.9600
archname=MSWin32-x64-multi-thread
uname=''
config_args='undef'
hint=recommended
useposix=true
d_sigaction=undef
useithreads=define
usemultiplicity=define
use64bitint=define
use64bitall=undef
uselongdouble=undef
usemymalloc=n
default_inc_excludes_dot=define
Compiler:
cc='gcc'
ccflags =' -DWIN32 -DWIN64 -DPERL_TEXTMODE_SCRIPTS -DMULTIPLICITY -DPERL_IMPLICIT_SYS -DUSE_PERLIO -D__USE_MINGW_ANSI_STDIO -fwrapv -fno-strict-aliasing -mms-bitfields'
optimize='-Os'
cppflags='-DWIN32'
ccversion=''
gccversion='12.2.0'
gccosandvers=''
intsize=4
longsize=4
ptrsize=8
doublesize=8
byteorder=12345678
doublekind=3
d_longlong=define
longlongsize=8
d_longdbl=define
longdblsize=16
longdblkind=3
ivtype='long long'
ivsize=8
nvtype='double'
nvsize=8
Off_t='long long'
lseeksize=8
alignbytes=8
prototype=define
Linker and Libraries:
ld='g++'
ldflags ='-s -L"C:\WinLibs\Perl-5.37.8\lib\CORE" -L"C:\winlibs-x86_64-posix-seh-gcc-12.2.0-llvm-15.0.7-mingw-w64msvcrt-10.0.0-r4\mingw64\lib" -L"C:\winlibs-x86_64-posix-seh-gcc-12.2.0-llvm-15.0.7-mingw-w64msvcrt-10.0.0-r4\mingw64\x86_64-w64-mingw32\lib" -L"C:\winlibs-x86_64-posix-seh-gcc-12.2.0-llvm-15.0.7-mingw-w64msvcrt-10.0.0-r4\mingw64\lib\gcc\x86_64-w64-mingw32\12.2.0"'
libpth=C:\winlibs-x86_64-posix-seh-gcc-12.2.0-llvm-15.0.7-mingw-w64msvcrt-10.0.0-r4\mingw64\lib C:\winlibs-x86_64-posix-seh-gcc-12.2.0-llvm-15.0.7-mingw-w64msvcrt-10.0.0-r4\mingw64\x86_64-w64-mingw32\lib C:\winlibs-x86_64-posix-seh-gcc-12.2.0-llvm-15.0.7-mingw-w64msvcrt-10.0.0-r4\mingw64\lib\gcc\x86_64-w64-mingw32\12.2.0
libs= -lmoldname -lkernel32 -luser32 -lgdi32 -lwinspool -lcomdlg32 -ladvapi32 -lshell32 -lole32 -loleaut32 -lnetapi32 -luuid -lws2_32 -lmpr -lwinmm -lversion -lodbc32 -lodbccp32 -lcomctl32
perllibs= -lmoldname -lkernel32 -luser32 -lgdi32 -lwinspool -lcomdlg32 -ladvapi32 -lshell32 -lole32 -loleaut32 -lnetapi32 -luuid -lws2_32 -lmpr -lwinmm -lversion -lodbc32 -lodbccp32 -lcomctl32
libc=
so=dll
useshrplib=true
libperl=libperl537.a
gnulibc_version=''
Dynamic Linking:
dlsrc=dl_win32.xs
dlext=dll
d_dlsymun=undef
ccdlflags=' '
cccdlflags=' '
lddlflags='-shared -s -L"C:\WinLibs\Perl-5.37.8\lib\CORE" -L"C:\winlibs-x86_64-posix-seh-gcc-12.2.0-llvm-15.0.7-mingw-w64msvcrt-10.0.0-r4\mingw64\lib" -L"C:\winlibs-x86_64-posix-seh-gcc-12.2.0-llvm-15.0.7-mingw-w64msvcrt-10.0.0-r4\mingw64\x86_64-w64-mingw32\lib" -L"C:\winlibs-x86_64-posix-seh-gcc-12.2.0-llvm-15.0.7-mingw-w64msvcrt-10.0.0-r4\mingw64\lib\gcc\x86_64-w64-mingw32\12.2.0"'
Characteristics of this binary (from libperl):
Compile-time options:
HAS_TIMES
HAVE_INTERP_INTERN
MULTIPLICITY
PERLIO_LAYERS
PERL_COPY_ON_WRITE
PERL_DONT_CREATE_GVSV
PERL_HASH_FUNC_SIPHASH13
PERL_HASH_USE_SBOX32
PERL_IMPLICIT_SYS
PERL_MALLOC_WRAP
PERL_OP_PARENT
PERL_PRESERVE_IVUV
PERL_USE_SAFE_PUTENV
USE_64_BIT_INT
USE_ITHREADS
USE_LARGE_FILES
USE_LOCALE
USE_LOCALE_COLLATE
USE_LOCALE_CTYPE
USE_LOCALE_NUMERIC
USE_LOCALE_TIME
USE_PERLIO
USE_PERL_ATOF
Built under MSWin32
Compiled at Jan 29 2023 11:47:08
%ENV:
PERL5LIB="C:\home\cape5378\perl5\lib\perl5"
PERL5_CPANPLUS_IS_RUNNING="9620"
PERL5_CPAN_IS_RUNNING="9620"
PERL_LOCAL_LIB_ROOT="C:\home\cape5378\perl5"
PERL_MB_OPT="--install_base "C:\\home\\cape5378\\perl5""
PERL_MM_OPT="INSTALL_BASE=C:\\home\\cape5378\\perl5"
PERL_MM_USE_DEFAULT="1"
PERL_USE_UNSAFE_INC="1"
@INC:
C:\home\cape5378\perl5\lib\perl5/5.37.8/MSWin32-x64-multi-thread
C:\home\cape5378\perl5\lib\perl5/5.37.8
C:\home\cape5378\perl5\lib\perl5/MSWin32-x64-multi-thread
C:\home\cape5378\perl5\lib\perl5
C:/WinLibs/Perl-5.37.8/site/lib
C:/WinLibs/Perl-5.37.8/lib
.