Net-DNS-Resolver-Unbound v1.21 Perl 5 v5.24.4 OpenBSD.amd64-openbsd

Status
Pass
From
Chris Williams (BINGOS)
Dist
Net-DNS-Resolver-Unbound v1.21
Platform
Perl 5 v5.24.4 OpenBSD.amd64-openbsd
Date
2023-06-15T06:29:11
ID
f0c7f00c-0b45-11ee-98b0-b3c3213a625c
This distribution has been tested as part of the CPAN Testers
project, supporting the Perl programming language.  See
http://wiki.cpantesters.org/ for more information or email
questions to cpan-testers-discuss@perl.org


--

Dear RWF,

This is a computer-generated error report created automatically by
CPANPLUS, version 0.9914. Testers personal comments may appear
at the end of this report.


Thank you for uploading your work to CPAN.  Congratulations!
All tests were successful.

TEST RESULTS:

Below is the error stack from stage 'make test':

"/home/cpan/pit/bare/perl-5.24.4/bin/perl" -MExtUtils::Command::MM -e 'cp_nonempty' -- Unbound.bs blib/arch/auto/Net/DNS/Resolver/Unbound/Unbound.bs 644
PERL_DL_NONLAZY=1 HARNESS_OPTIONS=j1:c "/home/cpan/pit/bare/perl-5.24.4/bin/perl" "-It" "-MExtUtils::Command::MM" "-MTest::Harness" "-e" "undef *Test::Harness::Switches; test_harness(0, 'blib/lib', 'blib/arch')" t/*.t
t/00-install.t ....... ok
# 
# These tests were run using:
# 	Net::DNS                        1.39
# 	Net::DNS::Resolver::Unbound     1.21
# 	Net::DNS::Resolver::libunbound  1.17.1
# 	Carp                            1.40
# 	DynaLoader                      1.38
# 	ExtUtils::MakeMaker             7.70
# 	File::Find                      1.34
# 	File::Spec                      3.75
# 	IO::File                        1.16
# 	Test::More                      1.302195
t/00-load.t .......... ok
t/00-pod.t ........... skipped: missing prerequisite Test::Pod 1.45
t/10-context.t ....... ok
t/20-synchronous.t ... ok
[1686810535] libunbound[27726:0] error: recvfrom 15 failed: Protocol not available
[1686810535] libunbound[27726:0] error: recvfrom 16 failed: Protocol not available
[1686810536] libunbound[27726:0] error: recvfrom 15 failed: Protocol not available
[1686810536] libunbound[27726:0] error: recvfrom 16 failed: Protocol not available
[1686810537] libunbound[27726:0] error: recvfrom 15 failed: Protocol not available
[1686810537] libunbound[27726:0] error: recvfrom 16 failed: Protocol not available
[1686810537] libunbound[27726:0] error: recvfrom 15 failed: Protocol not available
[1686810538] libunbound[27726:0] error: recvfrom 16 failed: Protocol not available
[1686810539] libunbound[27726:0] error: recvfrom 15 failed: Protocol not available
[1686810539] libunbound[27726:0] error: recvfrom 16 failed: Protocol not available
[1686810540] libunbound[27726:0] error: recvfrom 16 failed: Protocol not available
[1686810541] libunbound[27726:0] error: recvfrom 16 failed: Protocol not available
[1686810542] libunbound[27726:0] error: recvfrom 16 failed: Protocol not available
[1686810543] libunbound[27726:0] error: recvfrom 18 failed: Protocol not available
[1686810544] libunbound[27726:0] error: recvfrom 20 failed: Protocol not available
[1686810545] libunbound[27726:0] error: recvfrom 20 failed: Protocol not available
[1686810546] libunbound[27726:0] error: recvfrom 16 failed: Protocol not available
[1686810547] libunbound[27726:0] error: recvfrom 15 failed: Protocol not available
[1686810548] libunbound[27726:0] error: recvfrom 19 failed: Protocol not available
[1686810549] libunbound[27726:0] error: recvfrom 22 failed: Protocol not available
t/25-decode.t ........ ok
t/30-asynchronous.t .. ok
t/35-bgread.t ........ ok
All tests successful.
Files=8, Tests=57, 18 wallclock secs ( 0.03 usr  0.02 sys +  1.16 cusr  0.67 csys =  1.88 CPU)
Result: PASS


PREREQUISITES:

Here is a list of prerequisites you specified and versions we
managed to load:

	  Module Name                        Have     Want
	  Carp                               1.40      1.1
	  ExtUtils::MakeMaker                7.70        0
	  File::Find                         1.34     1.13
	  File::Spec                         3.75     3.29
	  IO::File                           1.16     1.14
	  Net::DNS                           1.39     1.19
	  Test::More                     1.302195      0.8

Perl module toolchain versions installed:
	Module Name                        Have
	CPANPLUS                         0.9914
	CPANPLUS::Dist::Build              0.90
	Cwd                                3.75
	ExtUtils::CBuilder             0.280236
	ExtUtils::Command                  7.70
	ExtUtils::Install                  2.22
	ExtUtils::MakeMaker                7.70
	ExtUtils::Manifest                 1.75
	ExtUtils::ParseXS                  3.44
	File::Spec                         3.75
	Module::Build                    0.4234
	Pod::Parser                        1.63
	Pod::Simple                        3.32
	Test2                          1.302195
	Test::Harness                      3.44
	Test::More                     1.302195
	version                          0.9929

******************************** NOTE ********************************
The comments above are created mechanically, possibly without manual
checking by the sender.  As there are many people performing automatic
tests on each upload to CPAN, it is likely that you will receive
identical messages about the same problem.

If you believe that the message is mistaken, please reply to the first
one with correction and/or additional informations, and do not take
it personally.  We appreciate your patience. :)
**********************************************************************

Additional comments:


This report was machine-generated by CPANPLUS::Dist::YACSmoke 1.08.
Powered by minismokebox version 0.68

CPANPLUS is prefering Build.PL

------------------------------
ENVIRONMENT AND OTHER CONTEXT
------------------------------

Environment variables:

    AUTOMATED_TESTING = 1
    NONINTERACTIVE_TESTING = 1
    PATH = /home/cpan/bin:/bin:/sbin:/usr/bin:/usr/sbin:/usr/X11R6/bin:/usr/local/bin:/usr/local/sbin
    PERL5LIB = /home/cpan/pit/jail/eWG_stJ7Y_/lib/perl5:/home/cpan/pit/bare/conf/perl-5.24.4/.cpanplus/5.24.4/build/Juy3HZFIZQ/Net-DNS-Resolver-Unbound-1.21/blib/lib:/home/cpan/pit/bare/conf/perl-5.24.4/.cpanplus/5.24.4/build/Juy3HZFIZQ/Net-DNS-Resolver-Unbound-1.21/blib/arch
    PERL5_CPANPLUS_IS_RUNNING = 5875
    PERL5_CPANPLUS_IS_VERSION = 0.9914
    PERL5_MINISMOKEBOX = 0.68
    PERL5_YACSMOKE_BASE = /home/cpan/pit/bare/conf/perl-5.24.4
    PERL_EXTUTILS_AUTOINSTALL = --defaultdeps
    PERL_LOCAL_LIB_ROOT = /home/cpan/pit/jail/eWG_stJ7Y_
    PERL_MB_OPT = --install_base "/home/cpan/pit/jail/eWG_stJ7Y_"
    PERL_MM_OPT = INSTALL_BASE=/home/cpan/pit/jail/eWG_stJ7Y_
    PERL_MM_USE_DEFAULT = 1
    SHELL = /usr/local/bin/bash
    TERM = screen.xterm-256color

Perl special variables (and OS-specific diagnostics, for MSWin32):

    Perl: $^X = /home/cpan/pit/bare/perl-5.24.4/bin/perl
    UID:  $<  = 1001
    EUID: $>  = 1001
    GID:  $(  = 1001 1001
    EGID: $)  = 1001 1001


-------------------------------


--

Summary of my perl5 (revision 5 version 24 subversion 4) configuration:
   
  Platform:
    osname=openbsd, osvers=7.3, archname=OpenBSD.amd64-openbsd
    uname='openbsd overture.bingosnet.co.uk 7.3 generic#1072 amd64 '
    config_args='-des -Dprefix=/home/cpan/pit/bare/perl-5.24.4'
    hint=recommended, useposix=true, d_sigaction=define
    useithreads=undef, usemultiplicity=undef
    use64bitint=define, use64bitall=define, uselongdouble=undef
    usemymalloc=n, bincompat5005=undef
  Compiler:
    cc='cc', ccflags ='-fno-strict-aliasing -pipe -fstack-protector-strong -I/usr/local/include',
    optimize='-O2',
    cppflags='-fno-strict-aliasing -pipe -fstack-protector-strong -I/usr/local/include'
    ccversion='', gccversion='OpenBSD Clang 13.0.0', gccosandvers=''
    intsize=4, longsize=8, ptrsize=8, doublesize=8, byteorder=12345678, doublekind=3
    d_longlong=define, longlongsize=8, d_longdbl=define, longdblsize=16, longdblkind=3
    ivtype='long', ivsize=8, nvtype='double', nvsize=8, Off_t='off_t', lseeksize=8
    alignbytes=8, prototype=define
  Linker and Libraries:
    ld='cc', ldflags ='-Wl,-E  -fstack-protector-strong -L/usr/local/lib'
    libpth=/usr/lib/clang/13.0.0/lib /usr/lib /usr/local/lib
    libs=-lpthread -lgdbm -lm -lutil -lc
    perllibs=-lpthread -lm -lutil -lc
    libc=/usr/lib/libc.so.97.0, so=so, useshrplib=false, libperl=libperl.a
    gnulibc_version=''
  Dynamic Linking:
    dlsrc=dl_dlopen.xs, dlext=so, d_dlsymun=undef, ccdlflags=' '
    cccdlflags='-DPIC -fPIC ', lddlflags='-shared -fPIC  -L/usr/local/lib -fstack-protector-strong'


Characteristics of this binary (from libperl): 
  Compile-time options: HAS_TIMES PERLIO_LAYERS PERL_COPY_ON_WRITE
                        PERL_DONT_CREATE_GVSV
                        PERL_HASH_FUNC_ONE_AT_A_TIME_HARD PERL_MALLOC_WRAP
                        PERL_PRESERVE_IVUV USE_64_BIT_ALL USE_64_BIT_INT
                        USE_LARGE_FILES USE_LOCALE USE_LOCALE_COLLATE
                        USE_LOCALE_CTYPE USE_LOCALE_NUMERIC USE_LOCALE_TIME
                        USE_PERLIO USE_PERL_ATOF
  Locally applied patches:
	Devel::PatchPerl 2.08
  Built under openbsd
  Compiled at May 29 2023 21:54:54
  %ENV:
    PERL5LIB="/home/cpan/pit/jail/eWG_stJ7Y_/lib/perl5:/home/cpan/pit/bare/conf/perl-5.24.4/.cpanplus/5.24.4/build/Juy3HZFIZQ/Net-DNS-Resolver-Unbound-1.21/blib/lib:/home/cpan/pit/bare/conf/perl-5.24.4/.cpanplus/5.24.4/build/Juy3HZFIZQ/Net-DNS-Resolver-Unbound-1.21/blib/arch"
    PERL5_CPANPLUS_IS_RUNNING="5875"
    PERL5_CPANPLUS_IS_VERSION="0.9914"
    PERL5_MINISMOKEBOX="0.68"
    PERL5_YACSMOKE_BASE="/home/cpan/pit/bare/conf/perl-5.24.4"
    PERL_EXTUTILS_AUTOINSTALL="--defaultdeps"
    PERL_LOCAL_LIB_ROOT="/home/cpan/pit/jail/eWG_stJ7Y_"
    PERL_MB_OPT="--install_base "/home/cpan/pit/jail/eWG_stJ7Y_""
    PERL_MM_OPT="INSTALL_BASE=/home/cpan/pit/jail/eWG_stJ7Y_"
    PERL_MM_USE_DEFAULT="1"
  @INC:
    /home/cpan/pit/jail/eWG_stJ7Y_/lib/perl5/5.24.4/OpenBSD.amd64-openbsd
    /home/cpan/pit/jail/eWG_stJ7Y_/lib/perl5/5.24.4
    /home/cpan/pit/jail/eWG_stJ7Y_/lib/perl5/OpenBSD.amd64-openbsd
    /home/cpan/pit/jail/eWG_stJ7Y_/lib/perl5
    /home/cpan/pit/bare/conf/perl-5.24.4/.cpanplus/5.24.4/build/Juy3HZFIZQ/Net-DNS-Resolver-Unbound-1.21/blib/lib
    /home/cpan/pit/bare/conf/perl-5.24.4/.cpanplus/5.24.4/build/Juy3HZFIZQ/Net-DNS-Resolver-Unbound-1.21/blib/arch
    /home/cpan/pit/bare/perl-5.24.4/lib/site_perl/5.24.4/OpenBSD.amd64-openbsd
    /home/cpan/pit/bare/perl-5.24.4/lib/site_perl/5.24.4
    /home/cpan/pit/bare/perl-5.24.4/lib/5.24.4/OpenBSD.amd64-openbsd
    /home/cpan/pit/bare/perl-5.24.4/lib/5.24.4
    .