Back
From: metabase:user:ba6eb63e-48b0-4be2-bfc5-8d07e6789f79
Subject: PASS Parse-CPAN-Authors-2.27 v5.20.2 GNU/Linux
Date: 2016-04-24T16:16:46Z
This distribution has been tested as part of the CPAN Testers
project, supporting the Perl programming language. See
http://wiki.cpantesters.org/ for more information or email
questions to cpan-testers-discuss@perl.org
--
Dear Leon Brocard,
This is a computer-generated report for Parse-CPAN-Authors-2.27
on perl 5.20.2, created by CPAN-Reporter-1.2017.
Thank you for uploading your work to CPAN. Congratulations!
All tests were successful.
Sections of this report:
* Tester comments
* Program output
* Prerequisites
* Environment and other context
------------------------------
TESTER COMMENTS
------------------------------
Additional comments from tester:
none provided
------------------------------
PROGRAM OUTPUT
------------------------------
Output from './Build test':
t/pod.t ........... ok
t/pod_coverage.t .. ok
t/simple.t ........ ok
All tests successful.
Files=3, Tests=47, 0 wallclock secs ( 0.02 usr 0.00 sys + 0.13 cusr 0.02 csys = 0.17 CPU)
Result: PASS
------------------------------
PREREQUISITES
------------------------------
Prerequisite modules loaded:
requires:
Module Need Have
--------------------- ---- --------
Class::Accessor::Fast 0 0.34
IO::Zlib 0 1.10
Test::Exception 0 0.43
Test::More 0 1.001014
------------------------------
ENVIRONMENT AND OTHER CONTEXT
------------------------------
Environment variables:
LANG = en_US.UTF-8
PATH = /home/smoker/.plenv/versions/5.20.2/bin:/home/smoker/.plenv/libexec:/home/smoker/.plenv/plugins/perl-build/bin:/home/smoker/.plenv/shims:/home/smoker/.plenv/bin:/usr/local/bin:/usr/bin:/bin:/usr/local/games:/usr/games
PERL5LIB =
PERL5OPT =
PERL5_CPANPLUS_IS_RUNNING = 11709
PERL5_CPAN_IS_RUNNING = 11709
SHELL = /bin/bash
TERM = xterm
Perl special variables (and OS-specific diagnostics, for MSWin32):
$^X = /home/smoker/.plenv/versions/5.20.2/bin/perl5.20.2
$UID/$EUID = 3000 / 3000
$GID = 3000 3000
$EGID = 3000 3000
Perl module toolchain versions installed:
Module Have
------------------- --------
CPAN 2.05
CPAN::Meta 2.143240
Cwd 3.48_01
ExtUtils::CBuilder 0.280217
ExtUtils::Command 7.12
ExtUtils::Install 1.67
ExtUtils::MakeMaker 7.12
ExtUtils::Manifest 1.70
ExtUtils::ParseXS 3.24
File::Spec 3.48_01
JSON 2.90
JSON::PP 2.27400
Module::Build 0.4216
Module::Signature n/a
Parse::CPAN::Meta 1.4414
Test::Harness 3.30
Test::More 1.001014
YAML 1.15
YAML::Syck 1.29
version 0.9909
--
Summary of my perl5 (revision 5 version 20 subversion 2) configuration:
Platform:
osname=linux, osvers=3.13.0-53-generic, archname=x86_64-linux
uname='linux ip-10-0-6-79 3.13.0-53-generic #89-ubuntu smp wed may 20 10:34:39 utc 2015 x86_64 x86_64 x86_64 gnulinux '
config_args='-Dprefix=/home/smoker/.plenv/versions/5.20.2 -de -Dusedevel -A'eval:scriptdir=/home/smoker/.plenv/versions/5.20.2/bin''
hint=recommended, useposix=true, d_sigaction=define
useithreads=undef, usemultiplicity=undef
use64bitint=define, use64bitall=define, uselongdouble=undef
usemymalloc=n, bincompat5005=undef
Compiler:
cc='cc', ccflags ='-fwrapv -fno-strict-aliasing -pipe -fstack-protector -I/usr/local/include -D_LARGEFILE_SOURCE -D_FILE_OFFSET_BITS=64',
optimize='-O2',
cppflags='-fwrapv -fno-strict-aliasing -pipe -fstack-protector -I/usr/local/include'
ccversion='', gccversion='4.8.4', gccosandvers=''
intsize=4, longsize=8, ptrsize=8, doublesize=8, byteorder=12345678
d_longlong=define, longlongsize=8, d_longdbl=define, longdblsize=16
ivtype='long', ivsize=8, nvtype='double', nvsize=8, Off_t='off_t', lseeksize=8
alignbytes=8, prototype=define
Linker and Libraries:
ld='cc', ldflags =' -fstack-protector -L/usr/local/lib'
libpth=/usr/local/lib /usr/lib/gcc/x86_64-linux-gnu/4.8/include-fixed /usr/include/x86_64-linux-gnu /usr/lib /lib/x86_64-linux-gnu /lib/../lib /usr/lib/x86_64-linux-gnu /usr/lib/../lib /lib
libs=-lnsl -ldl -lm -lcrypt -lutil -lc
perllibs=-lnsl -ldl -lm -lcrypt -lutil -lc
libc=libc-2.19.so, so=so, useshrplib=false, libperl=libperl.a
gnulibc_version='2.19'
Dynamic Linking:
dlsrc=dl_dlopen.xs, dlext=so, d_dlsymun=undef, ccdlflags='-Wl,-E'
cccdlflags='-fPIC', lddlflags='-shared -O2 -L/usr/local/lib -fstack-protector'
Characteristics of this binary (from libperl):
Compile-time options: HAS_TIMES PERLIO_LAYERS PERL_DONT_CREATE_GVSV
PERL_HASH_FUNC_ONE_AT_A_TIME_HARD PERL_MALLOC_WRAP
PERL_NEW_COPY_ON_WRITE PERL_PRESERVE_IVUV
PERL_USE_DEVEL USE_64_BIT_ALL USE_64_BIT_INT
USE_LARGE_FILES USE_LOCALE USE_LOCALE_COLLATE
USE_LOCALE_CTYPE USE_LOCALE_NUMERIC USE_PERLIO
USE_PERL_ATOF
Locally applied patches:
Devel::PatchPerl 1.40
Built under linux
Compiled at Apr 22 2016 16:38:44
%ENV:
PERL5LIB=""
PERL5OPT=""
PERL5_CPANPLUS_IS_RUNNING="11709"
PERL5_CPAN_IS_RUNNING="11709"
@INC:
/home/smoker/.plenv/versions/5.20.2/lib/perl5/site_perl/5.20.2/x86_64-linux
/home/smoker/.plenv/versions/5.20.2/lib/perl5/site_perl/5.20.2
/home/smoker/.plenv/versions/5.20.2/lib/perl5/5.20.2/x86_64-linux
/home/smoker/.plenv/versions/5.20.2/lib/perl5/5.20.2
.