CGI v4.57 Perl 5 v5.38.0 x86_64-linux

Status
Pass
From
Ioan Rogers
Dist
CGI v4.57
Platform
Perl 5 v5.38.0 x86_64-linux
Date
2023-08-24 19:46:39
ID
f12fa186-42b6-11ee-af1f-8d796255e5e8
This distribution has been tested as part of the CPAN Testers
project, supporting the Perl programming language.  See
http://wiki.cpantesters.org/ for more information or email
questions to cpan-testers-discuss@perl.org


--
Dear LEEJO,

This is a computer-generated report for CGI-4.57
on perl 5.38.0, created by App::cpanminus::reporter 0.21 (1.7047).

Thank you for uploading your work to CPAN.  Congratulations!
All tests were successful.

Sections of this report:

    * Tester comments
    * Program output
    * Prerequisites
    * Environment and other context

------------------------------
TESTER COMMENTS
------------------------------

Additional comments from tester:

none provided

------------------------------
PROGRAM OUTPUT
------------------------------

Output from '':

Building and testing CGI-4.57
cp lib/CGI/Util.pm blib/lib/CGI/Util.pm
cp lib/CGI/Cookie.pm blib/lib/CGI/Cookie.pm
cp lib/CGI/Carp.pm blib/lib/CGI/Carp.pm
cp lib/CGI/Pretty.pm blib/lib/CGI/Pretty.pm
cp lib/Fh.pm blib/lib/Fh.pm
cp lib/CGI/Push.pm blib/lib/CGI/Push.pm
cp lib/CGI.pm blib/lib/CGI.pm
cp lib/CGI/HTML/Functions.pm blib/lib/CGI/HTML/Functions.pm
cp lib/CGI/File/Temp.pm blib/lib/CGI/File/Temp.pm
cp lib/CGI.pod blib/lib/CGI.pod
cp lib/CGI/HTML/Functions.pod blib/lib/CGI/HTML/Functions.pod
PERL_DL_NONLAZY=1 "/home/irogers/.plenv/versions/5.38.0/bin/perl5.38.0" "-MExtUtils::Command::MM" "-MTest::Harness" "-e" "undef *Test::Harness::Switches; test_harness(0, 'blib/lib', 'blib/arch')" t/*.t t/headers/*.t
t/append_query.t ............ ok
t/changes.t ................. skipped: Test::CPAN::Changes required for this test
t/can.t ..................... ok
t/autoescape.t .............. ok
t/arbitrary_handles.t ....... ok
t/checkbox_group.t .......... ok
t/charset.t ................. ok
t/Dump.t .................... ok
# cgi-lib.pl routines
private_tempfiles has been deprecated at /home/irogers/.cpanm/work/1692902079.1251581/CGI-4.57/blib/lib/CGI.pm line 3238.
t/cgi.t ..................... ok
t/delete.t .................. ok
t/function.t ................ ok
t/form.t .................... ok
t/compiles_pod.t ............ ok
t/end_form.t ................ ok
[Thu Aug 24 11:53:24 2023] carp.t: foo at /home/irogers/.cpanm/work/1692902079.1251581/CGI-4.57/blib/lib/CGI/Carp.pm line 360.
t/carp.t .................... ok
t/cookie.t .................. ok
t/gh-155.t .................. ok
t/headers/attachment.t ...... ok
t/headers/charset.t ......... ok
t/headers/cookie.t .......... ok
t/headers/p3p.t ............. ok
t/headers.t ................. ok
t/headers/default.t ......... ok
t/headers/nph.t ............. ok
t/headers/target.t .......... ok
t/headers/type.t ............ ok
t/http.t .................... ok
t/hidden.t .................. ok
t/html.t .................... ok
t/multipart_globals.t ....... ok
t/init.t .................... ok
t/multipart_init.t .......... ok
t/multipart_start.t ......... ok
t/param_fetch.t ............. ok
t/popup_menu.t .............. ok
t/param_list_context.t ...... ok
CGI::Pretty is DEPRECATED and will be removed in a future release. Please see https://github.com/leejo/CGI.pm/issues/162 for more information at /home/irogers/.cpanm/work/1692902079.1251581/CGI-4.57/blib/lib/CGI/Pretty.pm line 20.
t/pretty.t .................. ok
t/no_tabindex.t ............. ok
t/query_string.t ............ ok
t/redirect_query_string.t ... ok
t/command_line.t ............ ok
t/push.t .................... ok
t/postdata.t ................ ok
t/request.t ................. ok
t/rt-52469.t ................ ok
t/rt-57524.t ................ ok
t/rt-84767.t ................ ok
t/rt-75628.t ................ ok
t/html_functions.t .......... ok
t/sorted.t .................. ok
t/rt-31107.t ................ ok
t/save_read_roundtrip.t ..... ok
t/start_end_end.t ........... ok
t/start_end_start.t ......... ok
t/start_end_asterisk.t ...... ok
t/unescapeHTML.t ............ ok
t/upload_quoted_unquoted.t .. ok
t/util-58.t ................. ok
t/utf8.t .................... ok
t/upload.t .................. ok
t/user_agent.t .............. ok
t/url.t ..................... ok
t/util.t .................... ok
t/uploadInfo.t .............. ok
All tests successful.

Test Summary Report
-------------------
t/compiles_pod.t          (Wstat: 0 Tests: 18 Failed: 0)
  TODO passed:   3, 6
Files=64, Tests=1588,  1 wallclock secs ( 0.20 usr  0.08 sys +  5.38 cusr  0.92 csys =  6.58 CPU)
Result: PASS

------------------------------
PREREQUISITES
------------------------------

Prerequisite modules loaded:

runtime:

    Module              Need     Have    
    ------------------- -------- --------
    Carp                0        1.54    
    Config              0        5.038000
    Encode              0        3.19    
    Exporter            0        5.77    
    File::Spec          0.82     3.88    
    File::Temp          0.17     0.2311  
    HTML::Entities      3.69     3.81    
    if                  0        0.0610  
    overload            0        1.37    
    parent              0.225    0.241   
    perl                5.008001 5.038000
    strict              0        1.12    
    utf8                0        1.25    
    warnings            0        1.65    

build:

    Module              Need     Have    
    ------------------- -------- --------
    ExtUtils::MakeMaker 0        7.70    

configure:

    Module              Need     Have    
    ------------------- -------- --------
    ExtUtils::MakeMaker 0        7.70    


------------------------------
ENVIRONMENT AND OTHER CONTEXT
------------------------------

Environment variables:

    HARNESS_OPTIONS = j16
    LANG = en_GB.UTF-8
    LANGUAGE = en_GB:en_CA:en
    LC_ADDRESS = en_CA.UTF-8
    LC_IDENTIFICATION = en_CA.UTF-8
    LC_MEASUREMENT = en_CA.UTF-8
    LC_MONETARY = en_CA.UTF-8
    LC_NAME = en_CA.UTF-8
    LC_NUMERIC = en_CA.UTF-8
    LC_PAPER = en_CA.UTF-8
    LC_TELEPHONE = en_CA.UTF-8
    LC_TIME = en_CA.UTF-8
    PATH = /home/irogers/.plenv/versions/5.38.0/bin:/home/irogers/.plenv/libexec:/home/irogers/.plenv/plugins/perl-build/bin:/home/irogers/Projects/github.maxmind.com/maxmind/mm_website/.direnv/python-3.11.4/bin:/usr/local/go/bin:/home/irogers/.raku/bin:/opt/rakudo-pkg/bin:/home/irogers/.plenv/shims:~/.plenv/bin:/home/irogers/go/bin:/home/irogers/.local/bin:/home/irogers/bin:/usr/local/sbin:/usr/local/bin:/usr/sbin:/usr/bin:/sbin:/bin:/usr/games:/usr/local/games:/snap/bin:/snap/bin:/opt/rakudo-pkg/bin:/opt/rakudo-pkg/share/perl6/bin
    PERL5LIB = /home/irogers/Projects/github.maxmind.com/maxmind/mm_website/lib
    SHELL = /bin/bash
    TERM = xterm-256color

Perl special variables (and OS-specific diagnostics, for MSWin32):

    EGID = 1000 4 24 27 30 46 113 122 134 135 1000
    EUID = 1000
    EXECUTABLE_NAME = /home/irogers/.plenv/versions/5.38.0/bin/perl5.38.0
    GID = 1000 4 24 27 30 46 113 122 134 135 1000
    UID = 1000

Perl module toolchain versions installed:

    Module              Have    
    ------------------- --------
    CPAN                2.36    
    CPAN::Meta          2.150010
    Cwd                 3.89    
    ExtUtils::CBuilder  0.280238
    ExtUtils::Command   7.70    
    ExtUtils::Install   2.22    
    ExtUtils::MakeMaker 7.70    
    ExtUtils::Manifest  1.73    
    ExtUtils::ParseXS   3.51    
    File::Spec          3.88    
    JSON                4.10    
    JSON::PP            4.16    
    Module::Build       0.4234  
    Module::Signature   0.88    
    Parse::CPAN::Meta   2.150010
    Test::Harness       3.44    
    Test::More          1.302195
    YAML                1.30    
    YAML::Syck          1.34    
    version             0.9929  


--

Summary of my perl5 (revision 5 version 38 subversion 0) configuration:
   
  Platform:
    osname=linux
    osvers=6.2.0-27-generic
    archname=x86_64-linux
    uname='linux mm-starbook 6.2.0-27-generic #28-ubuntu smp preempt_dynamic wed jul 12 22:39:51 utc 2023 x86_64 x86_64 x86_64 gnulinux '
    config_args='-Dprefix=/home/irogers/.plenv/versions/5.38.0 -de -Dversiononly -Dcc=clang -Doptimize=-O3 -Dccflags-march=native  -Dman1dir=none -Dman3dir=none -A'eval:scriptdir=/home/irogers/.plenv/versions/5.38.0/bin''
    hint=recommended
    useposix=true
    d_sigaction=define
    useithreads=undef
    usemultiplicity=undef
    use64bitint=define
    use64bitall=define
    uselongdouble=undef
    usemymalloc=n
    default_inc_excludes_dot=define
  Compiler:
    cc='clang'
    ccflags ='-fno-strict-aliasing -pipe -fstack-protector-strong -I/usr/local/include -D_LARGEFILE_SOURCE -D_FILE_OFFSET_BITS=64'
    optimize='-O3'
    cppflags='-fno-strict-aliasing -pipe -fstack-protector-strong -I/usr/local/include'
    ccversion=''
    gccversion='Ubuntu Clang 15.0.7'
    gccosandvers=''
    intsize=4
    longsize=8
    ptrsize=8
    doublesize=8
    byteorder=12345678
    doublekind=3
    d_longlong=define
    longlongsize=8
    d_longdbl=define
    longdblsize=16
    longdblkind=3
    ivtype='long'
    ivsize=8
    nvtype='double'
    nvsize=8
    Off_t='off_t'
    lseeksize=8
    alignbytes=8
    prototype=define
  Linker and Libraries:
    ld='clang'
    ldflags =' -fstack-protector-strong -L/usr/local/lib'
    libpth=/usr/lib/llvm-15/lib/clang/15.0.7/lib /usr/local/lib /usr/lib/x86_64-linux-gnu /usr/lib /usr/lib64
    libs=-lpthread -ldb -ldl -lm -lcrypt -lutil -lc
    perllibs=-lpthread -ldl -lm -lcrypt -lutil -lc
    libc=/lib/x86_64-linux-gnu/libc.so.6
    so=so
    useshrplib=false
    libperl=libperl.a
    gnulibc_version='2.37'
  Dynamic Linking:
    dlsrc=dl_dlopen.xs
    dlext=so
    d_dlsymun=undef
    ccdlflags='-Wl,-E'
    cccdlflags='-fPIC'
    lddlflags='-shared -O3 -L/usr/local/lib -fstack-protector-strong'


Characteristics of this binary (from libperl): 
  Compile-time options:
    HAS_LONG_DOUBLE
    HAS_STRTOLD
    HAS_TIMES
    PERLIO_LAYERS
    PERL_COPY_ON_WRITE
    PERL_DONT_CREATE_GVSV
    PERL_HASH_FUNC_SIPHASH13
    PERL_HASH_USE_SBOX32
    PERL_MALLOC_WRAP
    PERL_OP_PARENT
    PERL_PRESERVE_IVUV
    PERL_USE_SAFE_PUTENV
    USE_64_BIT_ALL
    USE_64_BIT_INT
    USE_LARGE_FILES
    USE_LOCALE
    USE_LOCALE_COLLATE
    USE_LOCALE_CTYPE
    USE_LOCALE_NUMERIC
    USE_LOCALE_TIME
    USE_PERLIO
    USE_PERL_ATOF
  Built under linux
  Compiled at Aug 24 2023 11:18:09
  %ENV:
    PERL5LIB="/home/irogers/Projects/github.maxmind.com/maxmind/mm_website/lib"
  @INC:
    /home/irogers/Projects/github.maxmind.com/maxmind/mm_website/lib
    /home/irogers/.plenv/versions/5.38.0/lib/perl5/site_perl/5.38.0/x86_64-linux
    /home/irogers/.plenv/versions/5.38.0/lib/perl5/site_perl/5.38.0
    /home/irogers/.plenv/versions/5.38.0/lib/perl5/5.38.0/x86_64-linux
    /home/irogers/.plenv/versions/5.38.0/lib/perl5/5.38.0