Sys-SigAction v0.23 Perl 5 v5.41.4 amd64-freebsd-thread-multi
- Status
- Pass
- From
- James E Keenan
- Dist
-
Sys-SigAction v0.23
- Platform
- Perl 5 v5.41.4 amd64-freebsd-thread-multi
- Date
- 2024-09-16 13:02:35
- ID
- f1454d04-742b-11ef-ad04-c145d1b571a7
This distribution has been tested as part of the CPAN Testers
project, supporting the Perl programming language. See
http://wiki.cpantesters.org/ for more information or email
questions to cpan-testers-discuss@perl.org
--
Dear Lincoln A Baxter,
This is a computer-generated report for Sys-SigAction-0.23
on perl 5.41.4, created by CPAN-Reporter-1.2020.
Thank you for uploading your work to CPAN. Congratulations!
All tests were successful.
Sections of this report:
* Tester comments
* Program output
* Prerequisites
* Environment and other context
------------------------------
TESTER COMMENTS
------------------------------
Additional comments from tester:
none provided
------------------------------
PROGRAM OUTPUT
------------------------------
Output from '/usr/bin/make test':
PERL_DL_NONLAZY=1 "/usr/home/jkeenan/testing/blead/bin/perl" "-MExtUtils::Command::MM" "-MTest::Harness" "-e" "undef *Test::Harness::Switches; test_harness(0, 'blib/lib', 'blib/arch')" t/*.t
t/alternatives.t ...... ok
t/inline_nested.t ..... ok
t/mask.t .............. ok
t/name.t .............. ok
t/number.t ............ ok
t/recursive_nested.t .. ok
NOTE: Setting safe=>1... with masked signals does not seem to work.
The problem is that the masked signals are not masked when safe=>1.
When safe=>0 they are.
If you have an application for safe=>1 and can come up with a patch
for this module that gets this test working, or a patch to the test
that shows how to fix it, please send it to me.
See the block below this one... which if executed would test safe mode
with masked signals... it is a clone of part of mask.t that proves this
is broken.
This test can be executed from the command line as follows:
SAFE_T=1 perl -Ilib t/safe.t
Lincoln
t/safe.t .............. ok
# delta time was 0.101874, timer was for 0.1 secconds
t/timeout.t ........... ok
All tests successful.
Files=8, Tests=87, 9 wallclock secs ( 0.05 usr 0.00 sys + 0.54 cusr 0.06 csys = 0.65 CPU)
Result: PASS
------------------------------
PREREQUISITES
------------------------------
Prerequisite modules loaded:
requires:
Module Need Have
------------------- -------- --------
perl 5.006000 5.041004
POSIX 0 2.22
Test::More 0 1.302203
build_requires:
Module Need Have
------------------- -------- --------
ExtUtils::MakeMaker 0 7.70
configure_requires:
Module Need Have
------------------- -------- --------
ExtUtils::MakeMaker 0 7.70
------------------------------
ENVIRONMENT AND OTHER CONTEXT
------------------------------
Environment variables:
LANG = C.UTF-8
NONINTERACTIVE_TESTING = 1
P7_TEST_REPORTS_DIR = /home/jkeenan/learn/perl/p5p/core-p7/alpha/test-reports
PATH = /sbin:/bin:/usr/sbin:/usr/bin:/usr/local/sbin:/usr/local/bin:/home/jkeenan/bin:/home/jkeenan/bin/perl:/home/jkeenan/bin/shell:/home/jkeenan/gitwork/metaconfig/bin
PERL2DIR = /home/jkeenan/gitwork/perl2
PERL5LIB =
PERL5OPT =
PERL5_CPANPLUS_IS_RUNNING = 598
PERL5_CPAN_IS_RUNNING = 598
PERL_MM_USE_DEFAULT = 1
PERL_USE_UNSAFE_INC = 1
PERL_WORKDIR = /home/jkeenan/gitwork/perl
SHELL = /bin/sh
TERM = xterm-256color
Perl special variables (and OS-specific diagnostics, for MSWin32):
$^X = /usr/home/jkeenan/testing/blead/bin/perl
$UID/$EUID = 1002 / 1002
$GID = 1002 1002 0 5 920 1003
$EGID = 1002 1002 0 5 920 1003
Perl module toolchain versions installed:
Module Have
------------------- --------
CPAN 2.37
CPAN::Meta 2.150010
Cwd 3.92
ExtUtils::CBuilder 0.280240
ExtUtils::Command 7.70
ExtUtils::Install 2.22
ExtUtils::MakeMaker 7.70
ExtUtils::Manifest 1.75
ExtUtils::ParseXS 3.54
File::Spec 3.93
JSON 4.10
JSON::PP 4.16
Module::Build 0.4234
Module::Signature n/a
Parse::CPAN::Meta 2.150010
Test2 1.302203
Test::Harness 3.50
Test::More 1.302203
YAML n/a
YAML::Syck n/a
version 0.9933
--
Summary of my perl5 (revision 5 version 41 subversion 4) configuration:
Commit id: 698a4c0ba0e389910a4b72e3f56956a721e3a9a4
Platform:
osname=freebsd
osvers=13.3-release-p6
archname=amd64-freebsd-thread-multi
uname='freebsd perlmonger.nycbug.org 13.3-release-p6 freebsd 13.3-release-p6 generic amd64 '
config_args='-des -Dusedevel -Uversiononly -Dprefix=/home/jkeenan/testing/blead -Dman1dir=none -Dman3dir=none -Duseithreads -Doptimize=-O2 -pipe -fstack-protector -fno-strict-aliasing'
hint=recommended
useposix=true
d_sigaction=define
useithreads=define
usemultiplicity=define
use64bitint=define
use64bitall=define
uselongdouble=undef
usemymalloc=n
default_inc_excludes_dot=define
Compiler:
cc='cc'
ccflags ='-DHAS_FPSETMASK -DHAS_FLOATINGPOINT_H -DNO_POSIX_2008_LOCALE -fno-strict-aliasing -pipe -fstack-protector-strong -I/usr/local/include'
optimize='-O2 -pipe -fstack-protector -fno-strict-aliasing'
cppflags='-DHAS_FPSETMASK -DHAS_FLOATINGPOINT_H -DNO_POSIX_2008_LOCALE -fno-strict-aliasing -pipe -fstack-protector-strong -I/usr/local/include'
ccversion=''
gccversion='FreeBSD Clang 17.0.6 (https://github.com/llvm/llvm-project.git llvmorg-17.0.6-0-g6009708b4367)'
gccosandvers=''
intsize=4
longsize=8
ptrsize=8
doublesize=8
byteorder=12345678
doublekind=3
d_longlong=define
longlongsize=8
d_longdbl=define
longdblsize=16
longdblkind=3
ivtype='long'
ivsize=8
nvtype='double'
nvsize=8
Off_t='off_t'
lseeksize=8
alignbytes=8
prototype=define
Linker and Libraries:
ld='cc'
ldflags ='-pthread -Wl,-E -fstack-protector-strong -L/usr/local/lib'
libpth=/usr/lib /usr/local/lib /usr/lib/clang/17/lib
libs=-lpthread -lgdbm -ldl -lm -lcrypt -lutil
perllibs=-lpthread -ldl -lm -lcrypt -lutil
libc=
so=so
useshrplib=false
libperl=libperl.a
gnulibc_version=''
Dynamic Linking:
dlsrc=dl_dlopen.xs
dlext=so
d_dlsymun=undef
ccdlflags=' '
cccdlflags='-DPIC -fPIC'
lddlflags='-shared -L/usr/local/lib -fstack-protector-strong'
Characteristics of this binary (from libperl):
Compile-time options:
HAS_LONG_DOUBLE
HAS_STRTOLD
HAS_TIMES
MULTIPLICITY
PERLIO_LAYERS
PERL_COPY_ON_WRITE
PERL_DONT_CREATE_GVSV
PERL_HASH_FUNC_SIPHASH13
PERL_HASH_USE_SBOX32
PERL_MALLOC_WRAP
PERL_OP_PARENT
PERL_PRESERVE_IVUV
PERL_USE_DEVEL
PERL_USE_SAFE_PUTENV
USE_64_BIT_ALL
USE_64_BIT_INT
USE_ITHREADS
USE_LARGE_FILES
USE_LOCALE
USE_LOCALE_COLLATE
USE_LOCALE_CTYPE
USE_LOCALE_NUMERIC
USE_LOCALE_TIME
USE_PERLIO
USE_PERL_ATOF
USE_REENTRANT_API
Built under freebsd
Compiled at Sep 15 2024 17:51:43
%ENV:
PERL2DIR="/home/jkeenan/gitwork/perl2"
PERL5LIB=""
PERL5OPT=""
PERL5_CPANPLUS_IS_RUNNING="598"
PERL5_CPAN_IS_RUNNING="598"
PERL_MM_USE_DEFAULT="1"
PERL_USE_UNSAFE_INC="1"
PERL_WORKDIR="/home/jkeenan/gitwork/perl"
@INC:
/home/jkeenan/testing/blead/lib/perl5/site_perl/5.41.4/amd64-freebsd-thread-multi
/home/jkeenan/testing/blead/lib/perl5/site_perl/5.41.4
/home/jkeenan/testing/blead/lib/perl5/5.41.4/amd64-freebsd-thread-multi
/home/jkeenan/testing/blead/lib/perl5/5.41.4
.