Convert-Binary-C v0.84 Perl 5 v5.30.3 sparc64-openbsd
- Status
- Pass
- From
- Dist
-
Convert-Binary-C v0.84
- Platform
- Perl 5 v5.30.3 sparc64-openbsd
- Date
- 2021-01-02 10:26:16
- ID
- f21a819e-4ce4-11eb-8dc7-c0e316a7e05f
This distribution has been tested as part of the CPAN Testers
project, supporting the Perl programming language. See
http://wiki.cpantesters.org/ for more information or email
questions to cpan-testers-discuss@perl.org
--
Dear Marcus Holland-Moritz,
This is a computer-generated report for Convert-Binary-C-0.84
on perl 5.30.3, created by CPAN-Reporter-1.2018.
Thank you for uploading your work to CPAN. Congratulations!
All tests were successful.
Sections of this report:
* Tester comments
* Program output
* Prerequisites
* Environment and other context
------------------------------
TESTER COMMENTS
------------------------------
Additional comments from tester:
this report is from an automated smoke testing program
and was not reviewed by a human for accuracy
------------------------------
PROGRAM OUTPUT
------------------------------
Output from '/usr/bin/make test':
"/usr/bin/perl" -MExtUtils::Command::MM -e 'cp_nonempty' -- C.bs blib/arch/auto/Convert/Binary/C/C.bs 644
PERL_DL_NONLAZY=1 "/usr/bin/perl" "-Iblib/lib" "-Iblib/arch" test.pl
Argument "" isn't numeric in numeric ge (>=) at test.pl line 31.
tests/001_init............ok
tests/101_basic...........ok
tests/201_config..........ok
1/2070 skipped: no debugging
tests/202_misc............ok
tests/203_warnings........ok
tests/204_enum............ok
tests/205_pack............ok
tests/206_parse...........ok
42/116 skipped: no debugging
tests/207_typedef.........ok
tests/208_float...........ok
tests/209_sourcify........ok
tests/210_depend..........ok
tests/211_clone...........ok
tests/212_clean...........ok
tests/213_string..........ok
tests/214_cache...........ok
tests/215_local...........ok
tests/216_language........ok
tests/217_preproc.........ok
tests/218_member..........ok
tests/219_def.............ok
tests/220_new.............ok
tests/221_asm.............ok
tests/222_ieee............ok
tests/223_initializer.....ok
tests/224_typeof..........ok
tests/225_magic...........ok
tests/226_indexed.........ok
tests/227_flexarray.......ok
tests/228_hooks...........ok
tests/229_substr..........ok
tests/230_compiler........ok
tests/231_align...........ok
tests/232_native..........ok
tests/233_tags............ok
tests/234_format..........ok
tests/235_basic...........ok
tests/236_typeinfo........ok
tests/237_parser..........ok
tests/238_byteorder.......ok
tests/239_macros..........ok
tests/240_offsetof........ok
tests/241_sizeof..........ok
tests/242_dimension.......ok
tests/243_parser..........ok
tests/501_bfsimple........ok
tests/502_bfmicrosoft.....ok
tests/503_bfgeneric.......ok
tests/601_speed...........ok
tests/602_threads.........ok
4/4 skipped: no threads
tests/603_complex.........ok
80/6080 skipped: no debug support
tests/701_debug...........ok
tests/702_env.............ok
tests/703_bugs............ok
tests/801_examples........ok
tests/802_pod.............ok
tests/803_pod_coverage....ok
tests/901_memory..........ok
396/397 skipped: no debugging
All tests successful, 523 subtests skipped.
Files=58, Tests=48545, 107 wallclock secs (95.72 cusr + 4.71 csys = 100.43 CPU)
------------------------------
PREREQUISITES
------------------------------
Prerequisite modules loaded:
build_requires:
Module Need Have
------------------- ---- ----
ExtUtils::MakeMaker 0 7.58
configure_requires:
Module Need Have
------------------- ---- ----
ExtUtils::MakeMaker 0 7.58
------------------------------
ENVIRONMENT AND OTHER CONTEXT
------------------------------
Environment variables:
AUTOMATED_TESTING = 1
NONINTERACTIVE_TESTING = 1
PATH = /home/smoker/perl/system/bin:/home/smoker/.plenv/libexec:/home/smoker/.plenv/plugins/perl-build/bin:/home/smoker/.plenv/plugins/plenv-contrib/bin:/home/smoker/.plenv/shims:/home/smoker/.plenv/bin:/home/smoker/bin:/bin:/sbin:/usr/bin:/usr/sbin:/usr/X11R6/bin:/usr/local/bin:/usr/local/sbin:/usr/games
PERL5LIB = /home/smoker/perl/system/lib/perl5
PERL5OPT =
PERL5_CPANPLUS_IS_RUNNING = 23218
PERL5_CPAN_IS_RUNNING = 23218
PERL5_CPAN_IS_RUNNING_IN_RECURSION = 379,23218
PERL_CARTON_PATH = /home/afresh1/cpan-smoker-setup/local/system
PERL_CR_SMOKER_CURRENT = Convert-Binary-C-0.84
PERL_EXTUTILS_AUTOINSTALL = --defaultdeps
PERL_LOCAL_LIB_ROOT = /home/smoker/perl/system
PERL_MB_OPT = --install_base '/home/smoker/perl/system'
PERL_MM_OPT = INSTALL_BASE=/home/smoker/perl/system
PERL_MM_USE_DEFAULT = 1
PERL_USE_UNSAFE_INC = 1
SHELL = /bin/ksh
TERM = screen
Perl special variables (and OS-specific diagnostics, for MSWin32):
$^X = /usr/bin/perl
$UID/$EUID = 900 / 900
$GID = 900 900
$EGID = 900 900
Perl module toolchain versions installed:
Module Have
------------------- --------
CPAN 2.22
CPAN::Meta 2.150010
Cwd 3.78
ExtUtils::CBuilder 0.280231
ExtUtils::Command 7.58
ExtUtils::Install 2.20
ExtUtils::MakeMaker 7.58
ExtUtils::Manifest 1.72
ExtUtils::ParseXS 3.40
File::Spec 3.78
JSON 4.02
JSON::PP 4.05
Module::Build 0.4231
Module::Signature 0.87
Parse::CPAN::Meta 2.150010
Test::Harness 3.42
Test::More 1.302183
YAML 1.26
YAML::Syck 1.34
version 0.9924
--
Summary of my perl5 (revision 5 version 30 subversion 3) configuration:
Platform:
osname=openbsd
osvers=6.8
archname=sparc64-openbsd
uname='openbsd'
config_args='-dse -Dopenbsd_distribution=defined -Dmksymlinks'
hint=recommended
useposix=true
d_sigaction=define
useithreads=undef
usemultiplicity=undef
use64bitint=define
use64bitall=define
uselongdouble=undef
usemymalloc=n
default_inc_excludes_dot=define
bincompat5005=undef
Compiler:
cc='cc'
ccflags ='-DNO_LOCALE_NUMERIC -DNO_LOCALE_COLLATE -fno-strict-aliasing -fno-delete-null-pointer-checks -pipe -fstack-protector-strong -D_FORTIFY_SOURCE=2 -I/usr/local/include'
optimize='-O2'
cppflags='-DBIG_TIME -DNO_LOCALE_NUMERIC -DNO_LOCALE_COLLATE -fno-strict-aliasing -fno-delete-null-pointer-checks -pipe -fstack-protector-strong -I/usr/local/include'
ccversion=''
gccversion='4.2.1 20070719 '
gccosandvers='openbsd6.8'
intsize=4
longsize=8
ptrsize=8
doublesize=8
byteorder=87654321
doublekind=4
d_longlong=define
longlongsize=8
d_longdbl=define
longdblsize=16
longdblkind=2
ivtype='long'
ivsize=8
nvtype='double'
nvsize=8
Off_t='off_t'
lseeksize=8
alignbytes=8
prototype=define
Linker and Libraries:
ld='cc'
ldflags ='-Wl,-E -fstack-protector-strong -L/usr/local/lib'
libpth=/usr/lib /usr/lib
libs=-lm -lc
perllibs=-lm -lc
libc=/usr/lib/libc.so.96.0
so=so
useshrplib=true
libperl=libperl.so.20.0
gnulibc_version=''
Dynamic Linking:
dlsrc=dl_dlopen.xs
dlext=so
d_dlsymun=undef
ccdlflags='-Wl,-R/usr/libdata/perl5/sparc64-openbsd/CORE'
cccdlflags='-DPIC -fPIC '
lddlflags='-shared -fPIC -fstack-protector-strong -L/usr/local/lib'
Characteristics of this binary (from libperl):
Compile-time options:
HAS_TIMES
PERLIO_LAYERS
PERL_COPY_ON_WRITE
PERL_DONT_CREATE_GVSV
PERL_MALLOC_WRAP
PERL_OP_PARENT
PERL_PRESERVE_IVUV
USE_64_BIT_ALL
USE_64_BIT_INT
USE_LARGE_FILES
USE_LOCALE
USE_LOCALE_CTYPE
USE_LOCALE_TIME
USE_PERLIO
USE_PERL_ATOF
Built under openbsd
%ENV:
PERL5LIB="/home/smoker/perl/system/lib/perl5"
PERL5OPT=""
PERL5_CPANPLUS_IS_RUNNING="23218"
PERL5_CPAN_IS_RUNNING="23218"
PERL5_CPAN_IS_RUNNING_IN_RECURSION="379,23218"
PERL_CARTON_PATH="/home/afresh1/cpan-smoker-setup/local/system"
PERL_CR_SMOKER_CURRENT="Convert-Binary-C-0.84"
PERL_EXTUTILS_AUTOINSTALL="--defaultdeps"
PERL_LOCAL_LIB_ROOT="/home/smoker/perl/system"
PERL_MB_OPT="--install_base '/home/smoker/perl/system'"
PERL_MM_OPT="INSTALL_BASE=/home/smoker/perl/system"
PERL_MM_USE_DEFAULT="1"
PERL_USE_UNSAFE_INC="1"
@INC:
/home/smoker/perl/system/lib/perl5/sparc64-openbsd
/home/smoker/perl/system/lib/perl5
/usr/local/libdata/perl5/site_perl/sparc64-openbsd
/usr/local/libdata/perl5/site_perl
/usr/libdata/perl5/sparc64-openbsd
/usr/libdata/perl5
.