Report for Image-Base-X11-Protocol-14

Back
From: metabase:user:314402c4-2aae-11df-837a-5e0a49663a4f
Subject: PASS Image-Base-X11-Protocol-14 v5.14.0 FreeBSD
Date: 2013-08-13T01:30:32Z

This distribution has been tested as part of the CPAN Testers
project, supporting the Perl programming language.  See
http://wiki.cpantesters.org/ for more information or email
questions to cpan-testers-discuss@perl.org


--
Dear Kevin Ryde,

This is a computer-generated report for Image-Base-X11-Protocol-14
on perl 5.14.0, created by CPAN-Reporter-1.2007.

Thank you for uploading your work to CPAN.  Congratulations!
All tests were successful.

Sections of this report:

    * Tester comments
    * Program output
    * Prerequisites
    * Environment and other context

------------------------------
TESTER COMMENTS
------------------------------

Additional comments from tester:

none provided

------------------------------
PROGRAM OUTPUT
------------------------------

Output from '/usr/bin/make test':

PERL_DL_NONLAZY=1 /home2/cpansand/var/ctps/5140_1/install/perl-5.14.0/bin/perl5.14.0 "-MExtUtils::Command::MM" "-e" "test_harness(0, 'blib/lib', 'blib/arch')" t/*.t
t/clip.t ............ ok
t/Drawable-use.t .... ok
# DISPLAY localhost:11.0
# Image::Base version 1.17
# 
# X server info
# vendor: The X.Org Foundation
# release_number: 10707000
# protocol_major_version: 11
# protocol_minor_version: 0
# byte_order: l
# num screens: 1
# width_in_pixels:  1920
# height_in_pixels: 1080
# width_in_millimeters:  483
# height_in_millimeters: 272
# root_visual: 33
#   depth: 24
#   class: 4 TrueColor
#   colormap_entries: 256
#   bits_per_rgb_value: 8
#   red_mask:   0XFF0000
#   green_mask: 0XFF00
#   blue_mask:  0XFF
# image_byte_order: 0 LeastSignificant
# black_pixel: 0
# white_pixel: 0XFFFFFF
# chosen screen: 0
# 
# use screen number 0 for checking
# MyTestImageBase on bitmap
# check_image()
# add_colours()
# MyTestImageBase on pixmap depth=24
# check_diamond()
# check_image()
# add_colours() check for error received
# add_colours() 5000
# add_colours() 5000 with seq wraparound
# run_seq_to_FFA0() 53017 steps to seq 65431
t/Drawable.t ........ ok
# Image::Base version 1.17
t/Pixmap.t .......... ok
t/Window-use.t ...... ok
# event VisibilityNotify
#   visibility now Unobscured
#   skip now [undef]
# check_image()
# check_diamond()
# check_image()
# check_diamond()
t/Window-visible.t .. ok
# Image::Base version 1.17
t/Window.t .......... ok
All tests successful.
Files=7, Tests=12657, 82 wallclock secs ( 2.46 usr  0.11 sys +  9.34 cusr  0.98 csys = 12.89 CPU)
Result: PASS

------------------------------
PREREQUISITES
------------------------------

Prerequisite modules loaded:

requires:

    Module               Need  Have    
    -------------------- ----- --------
    Image::Base          0     1.17    
    perl                 5.004 5.014000
    Test                 0     1.25_02 
    X11::Protocol        0.56  0.56    
    X11::Protocol::Other 3     18      

build_requires:

    Module               Need  Have    
    -------------------- ----- --------
    ExtUtils::MakeMaker  0     6.72    

configure_requires:

    Module               Need  Have    
    -------------------- ----- --------
    ExtUtils::MakeMaker  0     6.72    


------------------------------
ENVIRONMENT AND OTHER CONTEXT
------------------------------

Environment variables:

    DBIC_NO_WARN_BAD_PERL = 1
    PATH = /usr/local/bin:/usr/X11R6/bin:/usr/X11/bin:/usr/perl5.8.0/bin:/usr/bin:/bin:/usr/local/sbin:/usr/sbin:/sbin:/usr/local/pilot/bin:/home2/cpansand/bin/freebsd8.0:/home2/cpansand/bin/sh:/home2/cpansand/bin:/usr/X386/bin:/usr/games:/home2/cpansand/devel:/usr/home/e/eserte/work/srezic-misc/scripts
    PERL5LIB = /usr/local/src/CPAN/build/HTML-Shakan-0.18-DnAgmY/blib/arch:/usr/local/src/CPAN/build/HTML-Shakan-0.18-DnAgmY/blib/lib:/usr/local/src/CPAN/build/Dist-Zilla-Plugin-PromptIfStale-0.002-EhERAS/blib/arch:/usr/local/src/CPAN/build/Dist-Zilla-Plugin-PromptIfStale-0.002-EhERAS/blib/lib:/usr/local/src/CPAN/build/CPAN-Meta-Check-0.007-9NRyJz/blib/arch:/usr/local/src/CPAN/build/CPAN-Meta-Check-0.007-9NRyJz/blib/lib
    PERL5OPT = 
    PERL5_CPANPLUS_IS_RUNNING = 34838
    PERL5_CPAN_IS_RUNNING = 34838
    PERL5_CPAN_IS_RUNNING_IN_RECURSION = 34669,34838
    PERL_BATCH = yes
    PERL_CPAN_REPORTER_CONFIG = /var/tmp/cpansmoker-1023/wohoH_7XuG_config.ini
    PERL_CPAN_REPORTER_DIR = /home/cpansand/var/ctps/5140_1/config/perl-5.14.0/cpanreporter
    PERL_EXTUTILS_AUTOINSTALL = --defaultdeps
    PERL_HTML_DISPLAY_CLASS = HTML::Display::Mozilla
    SHELL = /usr/local/bin/zsh
    TERM = screen
    TMPDIR = /var/tmp/cpansmoker-1023

Perl special variables (and OS-specific diagnostics, for MSWin32):

    $^X = /home2/cpansand/var/ctps/5140_1/install/perl-5.14.0/bin/perl5.14.0
    $UID/$EUID = 1023 / 1023
    $GID = 1023 1023
    $EGID = 1023 1023

Perl module toolchain versions installed:

    Module              Have    
    ------------------- --------
    CPAN                2.00    
    CPAN::Meta          2.131560
    Cwd                 3.40    
    ExtUtils::CBuilder  0.280205
    ExtUtils::Command   1.17    
    ExtUtils::Install   1.56    
    ExtUtils::MakeMaker 6.72    
    ExtUtils::Manifest  1.60    
    ExtUtils::ParseXS   3.18    
    File::Spec          3.40    
    JSON                2.59    
    JSON::PP            2.27200 
    Module::Build       0.4007  
    Module::Signature   0.73    
    Parse::CPAN::Meta   1.4404  
    Test::Harness       3.28    
    Test::More          0.98    
    YAML                0.84    
    YAML::Syck          1.27    
    version             0.9902  


--

Summary of my perl5 (revision 5 version 14 subversion 0) configuration:
   
  Platform:
    osname=freebsd, osvers=8.0-release, archname=i386-freebsd
    uname='freebsd biokovo.herceg.de 8.0-release freebsd 8.0-release #0: sat nov 21 15:48:17 utc 2009 root@almeida.cse.buffalo.edu:usrobjusrsrcsysgeneric i386 '
    config_args='-ds -e -Uversiononly -Dinstallusrbinperl=n -Dusedevel -Dprefix=/home/cpansand/var/ctps/5140_1/install/perl-5.14.0'
    hint=recommended, useposix=true, d_sigaction=define
    useithreads=undef, usemultiplicity=undef
    useperlio=define, d_sfio=undef, uselargefiles=define, usesocks=undef
    use64bitint=undef, use64bitall=undef, uselongdouble=undef
    usemymalloc=n, bincompat5005=undef
  Compiler:
    cc='cc', ccflags ='-DHAS_FPSETMASK -DHAS_FLOATINGPOINT_H -fno-strict-aliasing -pipe -fstack-protector -I/usr/local/include',
    optimize='-O',
    cppflags='-DHAS_FPSETMASK -DHAS_FLOATINGPOINT_H -fno-strict-aliasing -pipe -fstack-protector -I/usr/local/include'
    ccversion='', gccversion='4.2.1 20070719  [FreeBSD]', gccosandvers=''
    intsize=4, longsize=4, ptrsize=4, doublesize=8, byteorder=1234
    d_longlong=define, longlongsize=8, d_longdbl=define, longdblsize=12
    ivtype='long', ivsize=4, nvtype='double', nvsize=8, Off_t='off_t', lseeksize=8
    alignbytes=4, prototype=define
  Linker and Libraries:
    ld='cc', ldflags ='-Wl,-E  -fstack-protector -L/usr/local/lib'
    libpth=/usr/lib /usr/local/lib
    libs=-lgdbm -lm -lcrypt -lutil -lc
    perllibs=-lm -lcrypt -lutil -lc
    libc=, so=so, useshrplib=false, libperl=libperl.a
    gnulibc_version=''
  Dynamic Linking:
    dlsrc=dl_dlopen.xs, dlext=so, d_dlsymun=undef, ccdlflags=' '
    cccdlflags='-DPIC -fPIC', lddlflags='-shared  -L/usr/local/lib -fstack-protector'


Characteristics of this binary (from libperl): 
  Compile-time options: PERL_DONT_CREATE_GVSV PERL_MALLOC_WRAP
                        PERL_PRESERVE_IVUV PERL_USE_DEVEL USE_LARGE_FILES
                        USE_PERLIO USE_PERL_ATOF
  Built under freebsd
  Compiled at May 16 2011 22:19:43
  %ENV:
    PERL5LIB="/usr/local/src/CPAN/build/HTML-Shakan-0.18-DnAgmY/blib/arch:/usr/local/src/CPAN/build/HTML-Shakan-0.18-DnAgmY/blib/lib:/usr/local/src/CPAN/build/Dist-Zilla-Plugin-PromptIfStale-0.002-EhERAS/blib/arch:/usr/local/src/CPAN/build/Dist-Zilla-Plugin-PromptIfStale-0.002-EhERAS/blib/lib:/usr/local/src/CPAN/build/CPAN-Meta-Check-0.007-9NRyJz/blib/arch:/usr/local/src/CPAN/build/CPAN-Meta-Check-0.007-9NRyJz/blib/lib"
    PERL5OPT=""
    PERL5_CPANPLUS_IS_RUNNING="34838"
    PERL5_CPAN_IS_RUNNING="34838"
    PERL5_CPAN_IS_RUNNING_IN_RECURSION="34669,34838"
    PERL_BATCH="yes"
    PERL_CPAN_REPORTER_CONFIG="/var/tmp/cpansmoker-1023/wohoH_7XuG_config.ini"
    PERL_CPAN_REPORTER_DIR="/home/cpansand/var/ctps/5140_1/config/perl-5.14.0/cpanreporter"
    PERL_EXTUTILS_AUTOINSTALL="--defaultdeps"
    PERL_HTML_DISPLAY_CLASS="HTML::Display::Mozilla"
  @INC:
    /usr/local/src/CPAN/build/HTML-Shakan-0.18-DnAgmY/blib/arch
    /usr/local/src/CPAN/build/HTML-Shakan-0.18-DnAgmY/blib/lib
    /usr/local/src/CPAN/build/Dist-Zilla-Plugin-PromptIfStale-0.002-EhERAS/blib/arch
    /usr/local/src/CPAN/build/Dist-Zilla-Plugin-PromptIfStale-0.002-EhERAS/blib/lib
    /usr/local/src/CPAN/build/CPAN-Meta-Check-0.007-9NRyJz/blib/arch
    /usr/local/src/CPAN/build/CPAN-Meta-Check-0.007-9NRyJz/blib/lib
    /home/cpansand/var/ctps/5140_1/install/perl-5.14.0/lib/site_perl/5.14.0/i386-freebsd
    /home/cpansand/var/ctps/5140_1/install/perl-5.14.0/lib/site_perl/5.14.0
    /home/cpansand/var/ctps/5140_1/install/perl-5.14.0/lib/5.14.0/i386-freebsd
    /home/cpansand/var/ctps/5140_1/install/perl-5.14.0/lib/5.14.0
    .