Test-WWW-Mechanize-Catalyst v0.62 Perl 5 v5.39.8 aarch64-freebsd
- Status
- Pass
- From
- Slaven Rezić
- Dist
-
Test-WWW-Mechanize-Catalyst v0.62
- Platform
- Perl 5 v5.39.8 aarch64-freebsd
- Date
- 2024-02-28 10:27:17
- ID
- f2a3e666-d623-11ee-8391-8df26d8775ea
This distribution has been tested as part of the CPAN Testers
project, supporting the Perl programming language. See
http://wiki.cpantesters.org/ for more information or email
questions to cpan-testers-discuss@perl.org
--
Dear Matt S Trout,
This is a computer-generated report for Test-WWW-Mechanize-Catalyst-0.62
on perl 5.39.8, created by CPAN-Reporter-1.2019.
Thank you for uploading your work to CPAN. Congratulations!
All tests were successful.
Sections of this report:
* Tester comments
* Program output
* Prerequisites
* Environment and other context
------------------------------
TESTER COMMENTS
------------------------------
Additional comments from tester:
none provided
------------------------------
PROGRAM OUTPUT
------------------------------
Output from '/usr/bin/make test':
PERL_DL_NONLAZY=1 "/usr/perl5.39.8/bin/perl5.39.8" "-MExtUtils::Command::MM" "-MTest::Harness" "-e" "undef *Test::Harness::Switches; test_harness(0, 'inc', 'blib/lib', 'blib/arch')" t/*.t
t/auth-test.t ........... ok
t/cookies.t ............. ok
t/decoded_content.t ..... ok
#
# ###################################################################
# Starting an external Catalyst HTTP server on port 7357
# To change the port, please set the TWMC_TEST_PORT env variable.
# (The server will be automatically shut-down right after the tests).
# ###################################################################
HTTP::Server::PSGI: Accepting connections at http://0:7357/
t/multi_content_type.t .. ok
t/pod.t ................. skipped: Test::Pod 1.14 required for testing POD: Can't locate Test/Pod.pm in @INC (you may need to install the Test::Pod module) (@INC entries checked: /home/cpansand/.cpan/build/2024022807/Test-WWW-Mechanize-Catalyst-0.62-0/inc /home/cpansand/.cpan/build/2024022807/Test-WWW-Mechanize-Catalyst-0.62-0/blib/lib /home/cpansand/.cpan/build/2024022807/Test-WWW-Mechanize-Catalyst-0.62-0/blib/arch /usr/perl5.39.8/lib/site_perl/5.39.8/aarch64-freebsd /usr/perl5.39.8/lib/site_perl/5.39.8 /usr/perl5.39.8/lib/5.39.8/aarch64-freebsd /usr/perl5.39.8/lib/5.39.8 .) at (eval 9) line 1.
t/redirect.t ............ ok
t/simple.t .............. ok
t/two_app.t ............. ok
t/useragent.t ........... ok
t/utf8.t ................ ok
t/white_label.t ......... ok
All tests successful.
Files=11, Tests=108, 17 wallclock secs ( 0.05 usr 0.05 sys + 6.07 cusr 0.89 csys = 7.06 CPU)
Result: PASS
------------------------------
PREREQUISITES
------------------------------
Prerequisite modules loaded:
requires:
Module Need Have
---------------------------------------- -------- --------
Catalyst 5.90 5.90131
Class::Load 0.19 0.25
LWP 5.816 6.76
Moose 0.67 2.2207
namespace::clean 0.09 0.27
perl 5.008004 5.039008
Test::WWW::Mechanize 1.14 1.60
WWW::Mechanize 1.54 2.18
build_requires:
Module Need Have
---------------------------------------- -------- --------
Catalyst::Plugin::Session::State::Cookie 0 0.18
Catalyst::Plugin::Session::Store::Dummy 0 0.43
ExtUtils::MakeMaker 6.59 7.70
Test::Exception 0 0.43
Test::More 0.88 1.302198
Test::utf8 0 1.02
configure_requires:
Module Need Have
---------------------------------------- -------- --------
ExtUtils::MakeMaker 6.59 7.70
------------------------------
ENVIRONMENT AND OTHER CONTEXT
------------------------------
Environment variables:
LANG = C.UTF-8
PATH = /usr/local/bin:/usr/bin:/bin:/usr/local/sbin:/usr/sbin:/sbin:/home/cpansand/bin/sh:/home/cpansand/bin:/usr/games:/home/cpansand/devel:/home/eserte/src/srezic-misc/scripts
PERL = /usr/perl5.39.8/bin/perl5.39.8
PERL5LIB =
PERL5OPT =
PERL5_CPANPLUS_IS_RUNNING = 83353
PERL5_CPAN_IS_RUNNING = 83353
PERL5_CPAN_IS_RUNNING_IN_RECURSION = 82127,83353
PERL_BATCH = yes
PERL_CANARY_STABILITY_NOPROMPT = 1
PERL_CPAN_REPORTER_CONFIG = /var/tmp/cpansmoker-1023/2024022807/cpanreporter_000_config.ini
PERL_EXTUTILS_AUTOINSTALL = --defaultdeps
PERL_USE_UNSAFE_INC = 1
SHELL = /bin/sh
TMPDIR = /var/tmp/cpansmoker-1023/2024022807
Perl special variables (and OS-specific diagnostics, for MSWin32):
$^X = /usr/perl5.39.8/bin/perl5.39.8
$UID/$EUID = 1023 / 1023
$GID = 1023 1023
$EGID = 1023 1023
Perl module toolchain versions installed:
Module Have
------------------- --------
CPAN 2.36
CPAN::Meta 2.150010
Cwd 3.90
ExtUtils::CBuilder 0.280240
ExtUtils::Command 7.70
ExtUtils::Install 2.22
ExtUtils::MakeMaker 7.70
ExtUtils::Manifest 1.75
ExtUtils::ParseXS 3.51
File::Spec 3.90
JSON n/a
JSON::PP 4.16
Module::Build 0.4234
Module::Signature n/a
Parse::CPAN::Meta 2.150010
Test2 1.302198
Test::Harness 3.48
Test::More 1.302198
YAML 1.31
YAML::Syck 1.34
version 0.9930
--
Summary of my perl5 (revision 5 version 39 subversion 8) configuration:
Platform:
osname=freebsd
osvers=14.0-stable
archname=aarch64-freebsd
uname='freebsd cloud9.bbbike.org 14.0-stable freebsd 14.0-stable #18 stable14-be2c6fba9: sun feb 25 02:50:03 utc 2024 root@cloud9.bbbike.org:usrobjhomeprojectsfreebsd-srcarm64.aarch64sysgeneric arm64 '
config_args='-ds -e -Dprefix=/usr/perl5.39.8 -Dusedevel -Dusemallocwrap=no -Dcf_email=srezic@cpan.org -Doptimize=-O2 -pipe'
hint=recommended
useposix=true
d_sigaction=define
useithreads=undef
usemultiplicity=undef
use64bitint=define
use64bitall=define
uselongdouble=undef
usemymalloc=n
default_inc_excludes_dot=define
Compiler:
cc='cc'
ccflags ='-DHAS_FPSETMASK -DHAS_FLOATINGPOINT_H -DNO_POSIX_2008_LOCALE -fno-strict-aliasing -pipe -fstack-protector-strong -I/usr/local/include'
optimize='-O2 -pipe'
cppflags='-DHAS_FPSETMASK -DHAS_FLOATINGPOINT_H -DNO_POSIX_2008_LOCALE -fno-strict-aliasing -pipe -fstack-protector-strong -I/usr/local/include'
ccversion=''
gccversion='FreeBSD Clang 16.0.6 (https://github.com/llvm/llvm-project.git llvmorg-16.0.6-0-g7cbf1a259152)'
gccosandvers=''
intsize=4
longsize=8
ptrsize=8
doublesize=8
byteorder=12345678
doublekind=3
d_longlong=define
longlongsize=8
d_longdbl=define
longdblsize=16
longdblkind=1
ivtype='long'
ivsize=8
nvtype='double'
nvsize=8
Off_t='off_t'
lseeksize=8
alignbytes=8
prototype=define
Linker and Libraries:
ld='cc'
ldflags ='-Wl,-E -fstack-protector-strong -L/usr/local/lib'
libpth=/usr/lib /usr/local/lib /usr/lib/clang/16/lib
libs=-lpthread -lgdbm -ldl -lm -lcrypt -lutil -lc
perllibs=-lpthread -ldl -lm -lcrypt -lutil -lc
libc=
so=so
useshrplib=false
libperl=libperl.a
gnulibc_version=''
Dynamic Linking:
dlsrc=dl_dlopen.xs
dlext=so
d_dlsymun=undef
ccdlflags=' '
cccdlflags='-DPIC -fPIC'
lddlflags='-shared -L/usr/local/lib -fstack-protector-strong'
Characteristics of this binary (from libperl):
Compile-time options:
HAS_LONG_DOUBLE
HAS_STRTOLD
HAS_TIMES
PERLIO_LAYERS
PERL_COPY_ON_WRITE
PERL_DONT_CREATE_GVSV
PERL_HASH_FUNC_SIPHASH13
PERL_HASH_USE_SBOX32
PERL_OP_PARENT
PERL_PRESERVE_IVUV
PERL_USE_DEVEL
PERL_USE_SAFE_PUTENV
USE_64_BIT_ALL
USE_64_BIT_INT
USE_LARGE_FILES
USE_LOCALE
USE_LOCALE_COLLATE
USE_LOCALE_CTYPE
USE_LOCALE_NUMERIC
USE_LOCALE_TIME
USE_PERLIO
USE_PERL_ATOF
Built under freebsd
Compiled at Feb 28 2024 06:43:54
%ENV:
PERL="/usr/perl5.39.8/bin/perl5.39.8"
PERL5LIB=""
PERL5OPT=""
PERL5_CPANPLUS_IS_RUNNING="83353"
PERL5_CPAN_IS_RUNNING="83353"
PERL5_CPAN_IS_RUNNING_IN_RECURSION="82127,83353"
PERL_BATCH="yes"
PERL_CANARY_STABILITY_NOPROMPT="1"
PERL_CPAN_REPORTER_CONFIG="/var/tmp/cpansmoker-1023/2024022807/cpanreporter_000_config.ini"
PERL_EXTUTILS_AUTOINSTALL="--defaultdeps"
PERL_USE_UNSAFE_INC="1"
@INC:
/usr/perl5.39.8/lib/site_perl/5.39.8/aarch64-freebsd
/usr/perl5.39.8/lib/site_perl/5.39.8
/usr/perl5.39.8/lib/5.39.8/aarch64-freebsd
/usr/perl5.39.8/lib/5.39.8
.