CGI v4.57 Perl 5 v5.20.2 armv6l-linux-thread-multi-64int

Status
Pass
From
Dist
CGI v4.57
Platform
Perl 5 v5.20.2 armv6l-linux-thread-multi-64int
Date
2023-07-12 08:41:59
ID
f779ee46-208f-11ee-859c-8058c44463ef
This distribution has been tested as part of the CPAN Testers
project, supporting the Perl programming language.  See
http://wiki.cpantesters.org/ for more information or email
questions to cpan-testers-discuss@perl.org


--
Dear LEEJO,

This is a computer-generated report for CGI-4.57
on perl 5.20.2, created by App::cpanminus::reporter 0.20 (1.7039).

Thank you for uploading your work to CPAN.  Congratulations!
All tests were successful.

Sections of this report:

    * Tester comments
    * Program output
    * Prerequisites
    * Environment and other context

------------------------------
TESTER COMMENTS
------------------------------

Additional comments from tester:

none provided

------------------------------
PROGRAM OUTPUT
------------------------------

Output from '':

Building and testing CGI-4.57
cp lib/CGI/Cookie.pm blib/lib/CGI/Cookie.pm
cp lib/CGI/Util.pm blib/lib/CGI/Util.pm
cp lib/CGI.pm blib/lib/CGI.pm
cp lib/CGI/Carp.pm blib/lib/CGI/Carp.pm
cp lib/CGI/Push.pm blib/lib/CGI/Push.pm
cp lib/Fh.pm blib/lib/Fh.pm
cp lib/CGI.pod blib/lib/CGI.pod
cp lib/CGI/Pretty.pm blib/lib/CGI/Pretty.pm
cp lib/CGI/File/Temp.pm blib/lib/CGI/File/Temp.pm
cp lib/CGI/HTML/Functions.pm blib/lib/CGI/HTML/Functions.pm
cp lib/CGI/HTML/Functions.pod blib/lib/CGI/HTML/Functions.pod
Manifying 7 pod documents
PERL_DL_NONLAZY=1 "/home/arpi/opt/perl5/perls/perl-5.20.2/bin/perl" "-MExtUtils::Command::MM" "-MTest::Harness" "-e" "undef *Test::Harness::Switches; test_harness(0, 'blib/lib', 'blib/arch')" t/*.t t/headers/*.t
t/append_query.t ............ ok
t/arbitrary_handles.t ....... ok
t/autoescape.t .............. ok
t/can.t ..................... ok
[Wed Jul 12 11:11:50 2023] carp.t: foo at /home/arpi/.cpanm/work/1689149469.13497/CGI-4.57/blib/lib/CGI/Carp.pm line 360.
t/carp.t .................... ok
# cgi-lib.pl routines
private_tempfiles has been deprecated at /home/arpi/.cpanm/work/1689149469.13497/CGI-4.57/blib/lib/CGI.pm line 3238.
t/cgi.t ..................... ok
t/changes.t ................. skipped: Test::CPAN::Changes required for this test
t/charset.t ................. ok
t/checkbox_group.t .......... ok
t/command_line.t ............ ok
t/compiles_pod.t ............ ok
t/cookie.t .................. ok
t/delete.t .................. ok
t/Dump.t .................... ok
t/end_form.t ................ ok
t/form.t .................... ok
t/function.t ................ ok
t/gh-155.t .................. ok
t/headers.t ................. ok
t/headers/attachment.t ...... ok
t/headers/charset.t ......... ok
t/headers/cookie.t .......... ok
t/headers/default.t ......... ok
t/headers/nph.t ............. ok
t/headers/p3p.t ............. ok
t/headers/target.t .......... ok
t/headers/type.t ............ ok
t/hidden.t .................. ok
t/html.t .................... ok
t/html_functions.t .......... ok
t/http.t .................... ok
t/init.t .................... ok
t/multipart_globals.t ....... ok
t/multipart_init.t .......... ok
t/multipart_start.t ......... ok
t/no_tabindex.t ............. ok
t/param_fetch.t ............. ok
t/param_list_context.t ...... ok
t/popup_menu.t .............. ok
t/postdata.t ................ ok
CGI::Pretty is DEPRECATED and will be removed in a future release. Please see https://github.com/leejo/CGI.pm/issues/162 for more information at /home/arpi/.cpanm/work/1689149469.13497/CGI-4.57/blib/lib/CGI/Pretty.pm line 20.
t/pretty.t .................. ok
t/push.t .................... ok
t/query_string.t ............ ok
t/redirect_query_string.t ... ok
t/request.t ................. ok
t/rt-31107.t ................ ok
t/rt-52469.t ................ ok
t/rt-57524.t ................ ok
t/rt-75628.t ................ ok
t/rt-84767.t ................ ok
t/save_read_roundtrip.t ..... ok
t/sorted.t .................. ok
t/start_end_asterisk.t ...... ok
t/start_end_end.t ........... ok
t/start_end_start.t ......... ok
t/unescapeHTML.t ............ ok
t/upload.t .................. ok
t/upload_quoted_unquoted.t .. ok
t/uploadInfo.t .............. ok
t/url.t ..................... ok
t/user_agent.t .............. ok
t/utf8.t .................... ok
t/util-58.t ................. ok
t/util.t .................... ok
All tests successful.
Files=64, Tests=1588, 19 wallclock secs ( 0.81 usr  0.26 sys + 15.55 cusr  2.71 csys = 19.33 CPU)
Result: PASS

------------------------------
PREREQUISITES
------------------------------

Prerequisite modules loaded:

runtime:

    Module              Need     Have    
    ------------------- -------- --------
    Carp                0        1.50    
    Config              0        5.020002
    Encode              0        3.19    
    Exporter            0        5.77    
    File::Spec          0.82     3.75    
    File::Temp          0.17     0.2311  
    HTML::Entities      3.69     3.81    
    if                  0        0.0608  
    overload            0        1.22    
    parent              0.225    0.241   
    perl                5.008001 5.020002
    strict              0        1.08    
    utf8                0        1.13_01 
    warnings            0        1.23    

build:

    Module              Need     Have    
    ------------------- -------- --------
    ExtUtils::MakeMaker 0        7.70    

configure:

    Module              Need     Have    
    ------------------- -------- --------
    ExtUtils::MakeMaker 0        7.70    


------------------------------
ENVIRONMENT AND OTHER CONTEXT
------------------------------

Environment variables:

    LANG = en_US.UTF-8
    PATH = /home/arpi/bin:/home/arpi/opt/perl5/bin:/home/arpi/opt/perl5/perls/stable/bin:/usr/local/sbin:/usr/local/bin:/usr/sbin:/usr/bin:/sbin:/bin:/usr/local/games:/usr/games
    PERLBREW_BASHRC_VERSION = 0.74
    PERLBREW_HOME = /home/arpi/.perlbrew
    PERLBREW_MANPATH = /home/arpi/opt/perl5/perls/stable/man
    PERLBREW_PATH = /home/arpi/opt/perl5/bin:/home/arpi/opt/perl5/perls/stable/bin
    PERLBREW_PERL = stable
    PERLBREW_ROOT = /home/arpi/opt/perl5
    PERLBREW_VERSION = 0.74
    SHELL = /bin/bash
    TERM = screen-256color

Perl special variables (and OS-specific diagnostics, for MSWin32):

    EGID = 1001 27 997 1001
    EUID = 1001
    EXECUTABLE_NAME = /home/arpi/opt/perl5/perls/perl-5.20.2/bin/perl
    GID = 1001 27 997 1001
    UID = 1001

Perl module toolchain versions installed:

    Module              Have    
    ------------------- --------
    CPAN                2.36    
    CPAN::Meta          2.150010
    Cwd                 3.75    
    ExtUtils::CBuilder  0.280236
    ExtUtils::Command   7.70    
    ExtUtils::Install   2.22    
    ExtUtils::MakeMaker 7.70    
    ExtUtils::Manifest  1.75    
    ExtUtils::ParseXS   3.44    
    File::Spec          3.75    
    JSON                4.10    
    JSON::PP            4.16    
    Module::Build       0.4234  
    Module::Signature   n/a     
    Parse::CPAN::Meta   2.150010
    Test::Harness       3.44    
    Test::More          1.302195
    YAML                1.30    
    YAML::Syck          n/a     
    version             0.9929  


--

Summary of my perl5 (revision 5 version 20 subversion 2) configuration:
   
  Platform:
    osname=linux, osvers=3.18.7+, archname=armv6l-linux-thread-multi-64int
    uname='linux coral01.plenum.ro 3.18.7+ #755 preempt thu feb 12 17:14:31 gmt 2015 armv6l gnulinux '
    config_args='-de -Dprefix=/home/arpi/opt/perl5/perls/perl-5.20.2 -Dusethreads -Duselargefiles -Duse64bitint -Dusesitecustomize -Duseshrplib -Dinc_version_list=none -Dpager=/bin/less -Doptimize=-O2 -Dcf_by=Plenum.ro -Dcf_email=arpad.szasz@plenum.ro -Uuserelocatableinc -UDEBUGGING -Aeval:scriptdir=/home/arpi/opt/perl5/perls/perl-5.20.2/bin'
    hint=recommended, useposix=true, d_sigaction=define
    useithreads=define, usemultiplicity=define
    use64bitint=define, use64bitall=undef, uselongdouble=undef
    usemymalloc=n, bincompat5005=undef
  Compiler:
    cc='cc', ccflags ='-D_REENTRANT -D_GNU_SOURCE -fwrapv -fno-strict-aliasing -pipe -fstack-protector -I/usr/local/include -D_LARGEFILE_SOURCE -D_FILE_OFFSET_BITS=64',
    optimize='-O2',
    cppflags='-D_REENTRANT -D_GNU_SOURCE -fwrapv -fno-strict-aliasing -pipe -fstack-protector -I/usr/local/include'
    ccversion='', gccversion='4.6.3', gccosandvers=''
    intsize=4, longsize=4, ptrsize=4, doublesize=8, byteorder=12345678
    d_longlong=define, longlongsize=8, d_longdbl=define, longdblsize=8
    ivtype='long long', ivsize=8, nvtype='double', nvsize=8, Off_t='off_t', lseeksize=8
    alignbytes=8, prototype=define
  Linker and Libraries:
    ld='cc', ldflags =' -fstack-protector -L/usr/local/lib'
    libpth=/usr/local/lib /usr/lib/gcc/arm-linux-gnueabihf/4.6/include-fixed /usr/include/arm-linux-gnueabihf /usr/lib /lib/arm-linux-gnueabihf /lib /usr/lib/arm-linux-gnueabihf
    libs=-lnsl -ldl -lm -lcrypt -lutil -lpthread -lc
    perllibs=-lnsl -ldl -lm -lcrypt -lutil -lpthread -lc
    libc=libc-2.13.so, so=so, useshrplib=true, libperl=libperl.so
    gnulibc_version='2.13'
  Dynamic Linking:
    dlsrc=dl_dlopen.xs, dlext=so, d_dlsymun=undef, ccdlflags='-Wl,-E -Wl,-rpath,/home/arpi/opt/perl5/perls/perl-5.20.2/lib/5.20.2/armv6l-linux-thread-multi-64int/CORE'
    cccdlflags='-fPIC', lddlflags='-shared -O2 -L/usr/local/lib -fstack-protector'


Characteristics of this binary (from libperl): 
  Compile-time options: HAS_TIMES MULTIPLICITY PERLIO_LAYERS
                        PERL_DONT_CREATE_GVSV
                        PERL_HASH_FUNC_ONE_AT_A_TIME_HARD
                        PERL_IMPLICIT_CONTEXT PERL_MALLOC_WRAP
                        PERL_NEW_COPY_ON_WRITE PERL_PRESERVE_IVUV
                        USE_64_BIT_INT USE_ITHREADS USE_LARGE_FILES
                        USE_LOCALE USE_LOCALE_COLLATE USE_LOCALE_CTYPE
                        USE_LOCALE_NUMERIC USE_PERLIO USE_PERL_ATOF
                        USE_REENTRANT_API USE_SITECUSTOMIZE
  Locally applied patches:
	Devel::PatchPerl 1.30
  Built under linux
  Compiled at Mar  7 2015 13:40:31
  %ENV:
    PERLBREW_BASHRC_VERSION="0.74"
    PERLBREW_HOME="/home/arpi/.perlbrew"
    PERLBREW_MANPATH="/home/arpi/opt/perl5/perls/stable/man"
    PERLBREW_PATH="/home/arpi/opt/perl5/bin:/home/arpi/opt/perl5/perls/stable/bin"
    PERLBREW_PERL="stable"
    PERLBREW_ROOT="/home/arpi/opt/perl5"
    PERLBREW_VERSION="0.74"
  @INC:
    /home/arpi/opt/perl5/perls/perl-5.20.2/lib/site_perl/5.20.2/armv6l-linux-thread-multi-64int
    /home/arpi/opt/perl5/perls/perl-5.20.2/lib/site_perl/5.20.2
    /home/arpi/opt/perl5/perls/perl-5.20.2/lib/5.20.2/armv6l-linux-thread-multi-64int
    /home/arpi/opt/perl5/perls/perl-5.20.2/lib/5.20.2
    .