Net-APNs-Extended v0.14 Perl 5 v5.28.1 x86_64-linux-thread-multi

Status
Pass
From
Nigel Horne
Dist
Net-APNs-Extended v0.14
Platform
Perl 5 v5.28.1 x86_64-linux-thread-multi
Date
2019-03-20T16:05:24
ID
f8681642-4b29-11e9-bf31-80c71e9d5857
This distribution has been tested as part of the CPAN Testers
project, supporting the Perl programming language.  See
http://wiki.cpantesters.org/ for more information or email
questions to cpan-testers-discuss@perl.org


--
Dear Yui Takeuchi,

This is a computer-generated report for Net-APNs-Extended-0.14
on perl 5.28.1, created by CPAN-Reporter-1.2018.

Thank you for uploading your work to CPAN.  Congratulations!
All tests were successful.

Sections of this report:

    * Tester comments
    * Program output
    * Prerequisites
    * Environment and other context

------------------------------
TESTER COMMENTS
------------------------------

Additional comments from tester:

this report is from an automated smoke testing program
and was not reviewed by a human for accuracy

------------------------------
PROGRAM OUTPUT
------------------------------

Output from './Build test':

t/00_compile.t .................... ok
t/01_new.t ........................ ok
t/02_send.t ....................... ok
t/03_send_multi.t ................. ok
t/05_retrieve_error.t ............. ok
t/04_create_send_data.t ........... ok
t/06_constants.t .................. ok
t/base/00_compile.t ............... ok
t/base/01_new.t ................... ok
t/base/02_accessors.t ............. ok
t/base/03_hostname.t .............. ok
t/feedback/01_new.t ............... ok
t/feedback/02_retrive_feedback.t .. ok
All tests successful.
Files=13, Tests=69,  1 wallclock secs ( 0.09 usr  0.03 sys +  1.93 cusr  0.33 csys =  2.38 CPU)
Result: PASS

------------------------------
PREREQUISITES
------------------------------

Prerequisite modules loaded:

requires:

    Module                Need     Have    
    --------------------- -------- --------
    Class::Accessor::Lite 0        0.08    
    JSON::XS              0        4.01    
    Net::SSLeay           0        1.85    
    parent                0        0.237   
    perl                  5.008001 5.028001

build_requires:

    Module                Need     Have    
    --------------------- -------- --------
    Test::Mock::Guard     0.08     0.10    
    Test::More            0.98     1.302162

configure_requires:

    Module                Need     Have    
    --------------------- -------- --------
    Module::Build::Tiny   0.035    0.039   


------------------------------
ENVIRONMENT AND OTHER CONTEXT
------------------------------

Environment variables:

    AUTOMATED_TESTING = 1
    HARNESS_OPTIONS = j2
    LANG = en_US.UTF-8
    PATH = /home/njh/perl5/perlbrew/bin:/home/njh/perl5/perlbrew/perls/perl-5.28.1-thread/bin:/home/njh/src/njh/smoker/bin:/usr/bin:/bin
    PERL5LIB = /tmp/build/Class-Accessor-Lite-0.08-0/blib/arch:/tmp/build/Class-Accessor-Lite-0.08-0/blib/lib:/tmp/build/Function-Interface-0.04-7/blib/arch:/tmp/build/Function-Interface-0.04-7/blib/lib:/tmp/build/PPR-0.000023-104/blib/arch:/tmp/build/PPR-0.000023-104/blib/lib:/tmp/build/Keyword-Simple-0.04-104/blib/arch:/tmp/build/Keyword-Simple-0.04-104/blib/lib:/tmp/build/Import-Into-1.002005-11/blib/arch:/tmp/build/Import-Into-1.002005-11/blib/lib:/tmp/build/Function-Return-0.05-1/blib/arch:/tmp/build/Function-Return-0.05-1/blib/lib:/tmp/build/Scope-Upper-0.31-1/blib/arch:/tmp/build/Scope-Upper-0.31-1/blib/lib:/tmp/build/Function-Parameters-2.001003-10/blib/arch:/tmp/build/Function-Parameters-2.001003-10/blib/lib:/tmp/build/Dir-Self-0.11-10/blib/arch:/tmp/build/Dir-Self-0.11-10/blib/lib:/tmp/build/Mojolicious-Plugin-Wordpress-0.01-8/blib/arch:/tmp/build/Mojolicious-Plugin-Wordpress-0.01-8/blib/lib:/tmp/build/Mojolicious-8.12-48/blib/arch:/tmp/build/Mojolicious-8.12-48/blib/lib
    PERL5OPT = 
    PERL5_CPANPLUS_IS_RUNNING = 32346
    PERL5_CPAN_IS_RUNNING = 32346
    PERLBREW_HOME = /home/njh/.perlbrew
    PERLBREW_MANPATH = /home/njh/perl5/perlbrew/perls/perl-5.28.1-thread/man
    PERLBREW_PATH = /home/njh/perl5/perlbrew/bin:/home/njh/perl5/perlbrew/perls/perl-5.28.1-thread/bin
    PERLBREW_PERL = perl-5.28.1-thread
    PERLBREW_ROOT = /home/njh/perl5/perlbrew
    PERLBREW_SHELLRC_VERSION = 0.86
    PERLBREW_VERSION = 0.86
    PERL_USE_UNSAFE_INC = 1
    SHELL = /bin/sh
    TEMP = /tmp/user/1000
    TMPDIR = /tmp/user/1000/testwrapper.32333

Perl special variables (and OS-specific diagnostics, for MSWin32):

    $^X = /home/njh/perl5/perlbrew/perls/perl-5.28.1-thread/bin/perl5.28.1
    $UID/$EUID = 1000 / 1000
    $GID = 1000 4 24 25 29 30 44 46 103 108 115 123 996 1000
    $EGID = 1000 4 24 25 29 30 44 46 103 108 115 123 996 1000

Perl module toolchain versions installed:

    Module              Have    
    ------------------- --------
    CPAN                2.25    
    CPAN::Meta          2.150010
    Cwd                 3.75    
    ExtUtils::CBuilder  0.280230
    ExtUtils::Command   7.34    
    ExtUtils::Install   2.14    
    ExtUtils::MakeMaker 7.34    
    ExtUtils::Manifest  1.71    
    ExtUtils::ParseXS   3.39    
    File::Spec          3.75    
    JSON                4.02    
    JSON::PP            4.02    
    Module::Build       0.4224  
    Module::Signature   n/a     
    Parse::CPAN::Meta   2.150010
    Test::Harness       3.42    
    Test::More          1.302162
    YAML                1.27    
    YAML::Syck          1.31    
    version             0.9924  


--

Summary of my perl5 (revision 5 version 28 subversion 1) configuration:
   
  Platform:
    osname=linux
    osvers=4.16.0-2-amd64
    archname=x86_64-linux-thread-multi
    uname='linux amelia 4.16.0-2-amd64 #1 smp debian 4.16.16-2 (2018-06-22) x86_64 gnulinux '
    config_args='-de -Dprefix=/home/njh/perl5/perlbrew/perls/perl-5.28.1-thread -Dusedevel -Dusethreads -Accflags= -Aeval:scriptdir=/home/njh/perl5/perlbrew/perls/perl-5.28.1-thread/bin'
    hint=recommended
    useposix=true
    d_sigaction=define
    useithreads=define
    usemultiplicity=define
    use64bitint=define
    use64bitall=define
    uselongdouble=undef
    usemymalloc=n
    default_inc_excludes_dot=define
    bincompat5005=undef
  Compiler:
    cc='cc'
    ccflags ='-D_REENTRANT -D_GNU_SOURCE -fwrapv -fno-strict-aliasing -pipe -fstack-protector-strong -I/usr/local/include -D_LARGEFILE_SOURCE -D_FILE_OFFSET_BITS=64'
    optimize='-O2'
    cppflags='-D_REENTRANT -D_GNU_SOURCE -fwrapv -fno-strict-aliasing -pipe -fstack-protector-strong -I/usr/local/include'
    ccversion=''
    gccversion='8.2.0'
    gccosandvers=''
    intsize=4
    longsize=8
    ptrsize=8
    doublesize=8
    byteorder=12345678
    doublekind=3
    d_longlong=define
    longlongsize=8
    d_longdbl=define
    longdblsize=16
    longdblkind=3
    ivtype='long'
    ivsize=8
    nvtype='double'
    nvsize=8
    Off_t='off_t'
    lseeksize=8
    alignbytes=8
    prototype=define
  Linker and Libraries:
    ld='cc'
    ldflags =' -fstack-protector-strong -L/usr/local/lib'
    libpth=/usr/local/lib /usr/lib/gcc/x86_64-linux-gnu/8/include-fixed /usr/include/x86_64-linux-gnu /usr/lib /lib/x86_64-linux-gnu /lib/../lib /usr/lib/x86_64-linux-gnu /usr/lib/../lib /lib /lib64 /usr/lib64
    libs=-lpthread -lnsl -lgdbm -ldb -ldl -lm -lcrypt -lutil -lc
    perllibs=-lpthread -lnsl -ldl -lm -lcrypt -lutil -lc
    libc=libc-2.27.so
    so=so
    useshrplib=false
    libperl=libperl.a
    gnulibc_version='2.27'
  Dynamic Linking:
    dlsrc=dl_dlopen.xs
    dlext=so
    d_dlsymun=undef
    ccdlflags='-Wl,-E'
    cccdlflags='-fPIC'
    lddlflags='-shared -O2 -L/usr/local/lib -fstack-protector-strong'


Characteristics of this binary (from libperl): 
  Compile-time options:
    HAS_TIMES
    MULTIPLICITY
    PERLIO_LAYERS
    PERL_COPY_ON_WRITE
    PERL_DONT_CREATE_GVSV
    PERL_IMPLICIT_CONTEXT
    PERL_MALLOC_WRAP
    PERL_OP_PARENT
    PERL_PRESERVE_IVUV
    PERL_USE_DEVEL
    USE_64_BIT_ALL
    USE_64_BIT_INT
    USE_ITHREADS
    USE_LARGE_FILES
    USE_LOCALE
    USE_LOCALE_COLLATE
    USE_LOCALE_CTYPE
    USE_LOCALE_NUMERIC
    USE_LOCALE_TIME
    USE_PERLIO
    USE_PERL_ATOF
    USE_REENTRANT_API
  Locally applied patches:
    Devel::PatchPerl 1.48
  Built under linux
  Compiled at Dec  5 2018 00:40:34
  %ENV:
    PERL5LIB="/tmp/build/Class-Accessor-Lite-0.08-0/blib/arch:/tmp/build/Class-Accessor-Lite-0.08-0/blib/lib:/tmp/build/Function-Interface-0.04-7/blib/arch:/tmp/build/Function-Interface-0.04-7/blib/lib:/tmp/build/PPR-0.000023-104/blib/arch:/tmp/build/PPR-0.000023-104/blib/lib:/tmp/build/Keyword-Simple-0.04-104/blib/arch:/tmp/build/Keyword-Simple-0.04-104/blib/lib:/tmp/build/Import-Into-1.002005-11/blib/arch:/tmp/build/Import-Into-1.002005-11/blib/lib:/tmp/build/Function-Return-0.05-1/blib/arch:/tmp/build/Function-Return-0.05-1/blib/lib:/tmp/build/Scope-Upper-0.31-1/blib/arch:/tmp/build/Scope-Upper-0.31-1/blib/lib:/tmp/build/Function-Parameters-2.001003-10/blib/arch:/tmp/build/Function-Parameters-2.001003-10/blib/lib:/tmp/build/Dir-Self-0.11-10/blib/arch:/tmp/build/Dir-Self-0.11-10/blib/lib:/tmp/build/Mojolicious-Plugin-Wordpress-0.01-8/blib/arch:/tmp/build/Mojolicious-Plugin-Wordpress-0.01-8/blib/lib:/tmp/build/Mojolicious-8.12-48/blib/arch:/tmp/build/Mojolicious-8.12-48/blib/lib"
    PERL5OPT=""
    PERL5_CPANPLUS_IS_RUNNING="32346"
    PERL5_CPAN_IS_RUNNING="32346"
    PERLBREW_HOME="/home/njh/.perlbrew"
    PERLBREW_MANPATH="/home/njh/perl5/perlbrew/perls/perl-5.28.1-thread/man"
    PERLBREW_PATH="/home/njh/perl5/perlbrew/bin:/home/njh/perl5/perlbrew/perls/perl-5.28.1-thread/bin"
    PERLBREW_PERL="perl-5.28.1-thread"
    PERLBREW_ROOT="/home/njh/perl5/perlbrew"
    PERLBREW_SHELLRC_VERSION="0.86"
    PERLBREW_VERSION="0.86"
    PERL_USE_UNSAFE_INC="1"
  @INC:
    /tmp/build/Class-Accessor-Lite-0.08-0/blib/arch
    /tmp/build/Class-Accessor-Lite-0.08-0/blib/lib
    /tmp/build/Function-Interface-0.04-7/blib/arch
    /tmp/build/Function-Interface-0.04-7/blib/lib
    /tmp/build/PPR-0.000023-104/blib/arch
    /tmp/build/PPR-0.000023-104/blib/lib
    /tmp/build/Keyword-Simple-0.04-104/blib/arch
    /tmp/build/Keyword-Simple-0.04-104/blib/lib
    /tmp/build/Import-Into-1.002005-11/blib/arch
    /tmp/build/Import-Into-1.002005-11/blib/lib
    /tmp/build/Function-Return-0.05-1/blib/arch
    /tmp/build/Function-Return-0.05-1/blib/lib
    /tmp/build/Scope-Upper-0.31-1/blib/arch
    /tmp/build/Scope-Upper-0.31-1/blib/lib
    /tmp/build/Function-Parameters-2.001003-10/blib/arch
    /tmp/build/Function-Parameters-2.001003-10/blib/lib
    /tmp/build/Dir-Self-0.11-10/blib/arch
    /tmp/build/Dir-Self-0.11-10/blib/lib
    /tmp/build/Mojolicious-Plugin-Wordpress-0.01-8/blib/arch
    /tmp/build/Mojolicious-Plugin-Wordpress-0.01-8/blib/lib
    /tmp/build/Mojolicious-8.12-48/blib/arch
    /tmp/build/Mojolicious-8.12-48/blib/lib
    /home/njh/perl5/perlbrew/perls/perl-5.28.1-thread/lib/site_perl/5.28.1/x86_64-linux-thread-multi
    /home/njh/perl5/perlbrew/perls/perl-5.28.1-thread/lib/site_perl/5.28.1
    /home/njh/perl5/perlbrew/perls/perl-5.28.1-thread/lib/5.28.1/x86_64-linux-thread-multi
    /home/njh/perl5/perlbrew/perls/perl-5.28.1-thread/lib/5.28.1
    .