Test-WWW-Mechanize-Catalyst v0.62 Perl 5 v5.20.3 x86_64-linux

Status
Pass
From
Slaven Rezić
Dist
Test-WWW-Mechanize-Catalyst v0.62
Platform
Perl 5 v5.20.3 x86_64-linux
Date
2022-02-22 22:58:38
ID
f8ec07e0-9432-11ec-a38b-09841f24ea8f
This distribution has been tested as part of the CPAN Testers
project, supporting the Perl programming language.  See
http://wiki.cpantesters.org/ for more information or email
questions to cpan-testers-discuss@perl.org


--
Dear Matt S Trout,

This is a computer-generated report for Test-WWW-Mechanize-Catalyst-0.62
on perl 5.20.3, created by CPAN-Reporter-1.2018.

Thank you for uploading your work to CPAN.  Congratulations!
All tests were successful.

Sections of this report:

    * Tester comments
    * Program output
    * Prerequisites
    * Environment and other context

------------------------------
TESTER COMMENTS
------------------------------

Additional comments from tester:

none provided

------------------------------
PROGRAM OUTPUT
------------------------------

Output from '/usr/bin/make test':

PERL_DL_NONLAZY=1 "/opt/perl-5.20.3/bin/perl" "-MExtUtils::Command::MM" "-MTest::Harness" "-e" "undef *Test::Harness::Switches; test_harness(0, 'inc', 'blib/lib', 'blib/arch')" t/*.t
t/auth-test.t ........... ok
t/cookies.t ............. ok
t/decoded_content.t ..... ok
# 
# ###################################################################
# Starting an external Catalyst HTTP server on port 7357
# To change the port, please set the TWMC_TEST_PORT env variable.
# (The server will be automatically shut-down right after the tests).
# ###################################################################
Getopt::Long::Descriptive was configured with these ambiguous options: h
HTTP::Server::PSGI: Accepting connections at http://0:7413/
t/multi_content_type.t .. ok
t/pod.t ................. ok
t/redirect.t ............ ok
t/simple.t .............. ok
t/two_app.t ............. ok
t/useragent.t ........... ok
t/utf8.t ................ ok
t/white_label.t ......... ok
All tests successful.
Files=11, Tests=109, 15 wallclock secs ( 0.06 usr  0.01 sys +  4.46 cusr  0.54 csys =  5.07 CPU)
Result: PASS

------------------------------
PREREQUISITES
------------------------------

Prerequisite modules loaded:

requires:

    Module                                   Need     Have    
    ---------------------------------------- -------- --------
    Catalyst                                 5.90     5.90128 
    Class::Load                              0.19     0.25    
    LWP                                      5.816    6.60    
    Moose                                    0.67     2.2015  
    namespace::clean                         0.09     0.27    
    perl                                     5.008004 5.020003
    Test::WWW::Mechanize                     1.14     1.54    
    WWW::Mechanize                           1.54     2.05    

build_requires:

    Module                                   Need     Have    
    ---------------------------------------- -------- --------
    Catalyst::Plugin::Session::State::Cookie 0        0.18    
    Catalyst::Plugin::Session::Store::Dummy  0        0       
    ExtUtils::MakeMaker                      6.59     7.62    
    Test::Exception                          0        0.43    
    Test::More                               0.88     1.302188
    Test::utf8                               0        1.02    

configure_requires:

    Module                                   Need     Have    
    ---------------------------------------- -------- --------
    ExtUtils::MakeMaker                      6.59     7.62    


------------------------------
ENVIRONMENT AND OTHER CONTEXT
------------------------------

Environment variables:

    LANG = en_US.UTF-8
    PATH = /usr/local/bin:/usr/bin:/bin:/usr/local/sbin:/usr/sbin:/sbin:/home/cpansand/bin/linux-gnu:/home/cpansand/bin/sh:/home/cpansand/bin:/usr/games:/home/cpansand/devel:/home/eserte/src/srezic-misc/scripts
    PERL5LIB = /home/cpansand/.local/share/.cpan/build/2022022222/Catalyst-Plugin-Session-Store-File-0.18-0/blib/arch:/home/cpansand/.local/share/.cpan/build/2022022222/Catalyst-Plugin-Session-Store-File-0.18-0/blib/lib:/home/cpansand/.local/share/.cpan/build/2022022222/Catalyst-Plugin-Session-State-Cookie-0.18-0/blib/arch:/home/cpansand/.local/share/.cpan/build/2022022222/Catalyst-Plugin-Session-State-Cookie-0.18-0/blib/lib:/home/cpansand/.local/share/.cpan/build/2022022222/Catalyst-Plugin-Session-0.41-0/blib/arch:/home/cpansand/.local/share/.cpan/build/2022022222/Catalyst-Plugin-Session-0.41-0/blib/lib:/home/cpansand/.local/share/.cpan/build/2022022222/MooseX-Mangle-0.02-0/blib/arch:/home/cpansand/.local/share/.cpan/build/2022022222/MooseX-Mangle-0.02-0/blib/lib
    PERL5OPT = 
    PERL5_CPANPLUS_IS_RUNNING = 337
    PERL5_CPAN_IS_RUNNING = 337
    PERL5_CPAN_IS_RUNNING_IN_RECURSION = 32149,337
    PERLDOC = -MPod::Perldoc::ToTextOverstrike
    PERL_BATCH = yes
    PERL_CANARY_STABILITY_NOPROMPT = 1
    PERL_CPAN_REPORTER_CONFIG = /var/tmp/cpansmoker-1023/2022022222/cpanreporter_000_config.ini
    PERL_EXTUTILS_AUTOINSTALL = --defaultdeps
    PERL_USE_UNSAFE_INC = 1
    SHELL = /usr/bin/zsh
    TERM = screen
    TMPDIR = /var/tmp/cpansmoker-1023/2022022222

Perl special variables (and OS-specific diagnostics, for MSWin32):

    $^X = /opt/perl-5.20.3/bin/perl
    $UID/$EUID = 1023 / 1023
    $GID = 1023 1023
    $EGID = 1023 1023

Perl module toolchain versions installed:

    Module              Have    
    ------------------- --------
    CPAN                2.28    
    CPAN::Meta          2.150010
    Cwd                 3.75    
    ExtUtils::CBuilder  0.280236
    ExtUtils::Command   7.62    
    ExtUtils::Install   2.06    
    ExtUtils::MakeMaker 7.62    
    ExtUtils::Manifest  1.70    
    ExtUtils::ParseXS   3.35    
    File::Spec          3.75    
    JSON                4.05    
    JSON::PP            4.06    
    Module::Build       0.4231  
    Module::Signature   n/a     
    Parse::CPAN::Meta   2.150010
    Test::Harness       3.42    
    Test::More          1.302188
    YAML                1.30    
    YAML::Syck          1.34    
    version             0.9929  


--

Summary of my perl5 (revision 5 version 20 subversion 3) configuration:
   
  Platform:
    osname=linux, osvers=4.15.0-154-generic, archname=x86_64-linux
    uname='linux cloud6.bbbike.org 4.15.0-154-generic #161-ubuntu smp fri jul 30 13:04:17 utc 2021 x86_64 x86_64 x86_64 gnulinux '
    config_args='-ds -e -Dprefix=/opt/perl-5.20.3 -Dcf_email=srezic@cpan.org'
    hint=recommended, useposix=true, d_sigaction=define
    useithreads=undef, usemultiplicity=undef
    use64bitint=define, use64bitall=define, uselongdouble=undef
    usemymalloc=n, bincompat5005=undef
  Compiler:
    cc='cc', ccflags ='-fwrapv -fno-strict-aliasing -pipe -fstack-protector -I/usr/local/include -D_LARGEFILE_SOURCE -D_FILE_OFFSET_BITS=64',
    optimize='-O2',
    cppflags='-fwrapv -fno-strict-aliasing -pipe -fstack-protector -I/usr/local/include'
    ccversion='', gccversion='7.5.0', gccosandvers=''
    intsize=4, longsize=8, ptrsize=8, doublesize=8, byteorder=12345678
    d_longlong=define, longlongsize=8, d_longdbl=define, longdblsize=16
    ivtype='long', ivsize=8, nvtype='double', nvsize=8, Off_t='off_t', lseeksize=8
    alignbytes=8, prototype=define
  Linker and Libraries:
    ld='cc', ldflags =' -fstack-protector -L/usr/local/lib'
    libpth=/usr/local/lib /usr/lib/gcc/x86_64-linux-gnu/7/include-fixed /usr/include/x86_64-linux-gnu /usr/lib /lib/x86_64-linux-gnu /lib/../lib /usr/lib/x86_64-linux-gnu /usr/lib/../lib /lib
    libs=-lpthread -lnsl -lgdbm -ldb -ldl -lm -lcrypt -lutil -lc
    perllibs=-lpthread -lnsl -ldl -lm -lcrypt -lutil -lc
    libc=libc-2.27.so, so=so, useshrplib=false, libperl=libperl.a
    gnulibc_version='2.27'
  Dynamic Linking:
    dlsrc=dl_dlopen.xs, dlext=so, d_dlsymun=undef, ccdlflags='-Wl,-E'
    cccdlflags='-fPIC', lddlflags='-shared -O2 -L/usr/local/lib -fstack-protector'


Characteristics of this binary (from libperl): 
  Compile-time options: HAS_TIMES PERLIO_LAYERS PERL_DONT_CREATE_GVSV
                        PERL_HASH_FUNC_ONE_AT_A_TIME_HARD PERL_MALLOC_WRAP
                        PERL_NEW_COPY_ON_WRITE PERL_PRESERVE_IVUV
                        USE_64_BIT_ALL USE_64_BIT_INT USE_LARGE_FILES
                        USE_LOCALE USE_LOCALE_COLLATE USE_LOCALE_CTYPE
                        USE_LOCALE_NUMERIC USE_PERLIO USE_PERL_ATOF
  Locally applied patches:
	Devel::PatchPerl 2.08
  Built under linux
  Compiled at Sep  5 2021 13:00:03
  %ENV:
    PERL5LIB="/home/cpansand/.local/share/.cpan/build/2022022222/Catalyst-Plugin-Session-Store-File-0.18-0/blib/arch:/home/cpansand/.local/share/.cpan/build/2022022222/Catalyst-Plugin-Session-Store-File-0.18-0/blib/lib:/home/cpansand/.local/share/.cpan/build/2022022222/Catalyst-Plugin-Session-State-Cookie-0.18-0/blib/arch:/home/cpansand/.local/share/.cpan/build/2022022222/Catalyst-Plugin-Session-State-Cookie-0.18-0/blib/lib:/home/cpansand/.local/share/.cpan/build/2022022222/Catalyst-Plugin-Session-0.41-0/blib/arch:/home/cpansand/.local/share/.cpan/build/2022022222/Catalyst-Plugin-Session-0.41-0/blib/lib:/home/cpansand/.local/share/.cpan/build/2022022222/MooseX-Mangle-0.02-0/blib/arch:/home/cpansand/.local/share/.cpan/build/2022022222/MooseX-Mangle-0.02-0/blib/lib"
    PERL5OPT=""
    PERL5_CPANPLUS_IS_RUNNING="337"
    PERL5_CPAN_IS_RUNNING="337"
    PERL5_CPAN_IS_RUNNING_IN_RECURSION="32149,337"
    PERLDOC="-MPod::Perldoc::ToTextOverstrike"
    PERL_BATCH="yes"
    PERL_CANARY_STABILITY_NOPROMPT="1"
    PERL_CPAN_REPORTER_CONFIG="/var/tmp/cpansmoker-1023/2022022222/cpanreporter_000_config.ini"
    PERL_EXTUTILS_AUTOINSTALL="--defaultdeps"
    PERL_USE_UNSAFE_INC="1"
  @INC:
    /home/cpansand/.local/share/.cpan/build/2022022222/Catalyst-Plugin-Session-Store-File-0.18-0/blib/arch
    /home/cpansand/.local/share/.cpan/build/2022022222/Catalyst-Plugin-Session-Store-File-0.18-0/blib/lib
    /home/cpansand/.local/share/.cpan/build/2022022222/Catalyst-Plugin-Session-State-Cookie-0.18-0/blib/arch
    /home/cpansand/.local/share/.cpan/build/2022022222/Catalyst-Plugin-Session-State-Cookie-0.18-0/blib/lib
    /home/cpansand/.local/share/.cpan/build/2022022222/Catalyst-Plugin-Session-0.41-0/blib/arch
    /home/cpansand/.local/share/.cpan/build/2022022222/Catalyst-Plugin-Session-0.41-0/blib/lib
    /home/cpansand/.local/share/.cpan/build/2022022222/MooseX-Mangle-0.02-0/blib/arch
    /home/cpansand/.local/share/.cpan/build/2022022222/MooseX-Mangle-0.02-0/blib/lib
    /opt/perl-5.20.3/lib/site_perl/5.20.3/x86_64-linux
    /opt/perl-5.20.3/lib/site_perl/5.20.3
    /opt/perl-5.20.3/lib/5.20.3/x86_64-linux
    /opt/perl-5.20.3/lib/5.20.3
    .