Report for Sys-SigAction-0.21

Back
From: metabase:user:463fb2ac-8bb4-11e3-a300-bfd322d81e64
Subject: PASS Sys-SigAction-0.21 v5.16.3 GNU/Linux
Date: 2014-05-29T03:47:36Z

This distribution has been tested as part of the CPAN Testers
project, supporting the Perl programming language.  See
http://wiki.cpantesters.org/ for more information or email
questions to cpan-testers-discuss@perl.org


--
Dear Lincoln A Baxter,

This is a computer-generated report for Sys-SigAction-0.21
on perl 5.16.3, created by CPAN-Reporter-1.2010.

Thank you for uploading your work to CPAN.  Congratulations!
All tests were successful.

Sections of this report:

    * Tester comments
    * Program output
    * Prerequisites
    * Environment and other context

------------------------------
TESTER COMMENTS
------------------------------

Additional comments from tester:

none provided

------------------------------
PROGRAM OUTPUT
------------------------------

Output from '/usr/bin/make test':

make: Warning: File `Makefile' has modification time 89 s in the future
PERL_DL_NONLAZY=1 /opt/perl/5.16.3/bin/perl "-MExtUtils::Command::MM" "-MTest::Harness" "-e" "undef *Test::Harness::Switches; test_harness(0, 'blib/lib', 'blib/arch')" t/*.t
t/mask.t ..... ok
t/name.t ..... ok
t/nested.t ... ok
t/number.t ... ok

         
         NOTE: Setting safe=>1... with masked signals does not seem to work.
         The problem is that the masked signals are not masked when safe=>1.
         When safe=>0 they are.  

         If you have an application for safe=>1 and can come up with 
         a test that works in the context of this module's installation
         please send me a patch to safe.t that tests it.
         
         See the block below this one... which if executed would test safe mode
         with masked signals... it is a clone of part of mask.t that proves this
         is broken.

         Lincoln
         
t/safe.t ..... ok
# delta time was 0.100255, timer was for 0.1 secconds
t/timeout.t .. ok
All tests successful.
Files=6, Tests=44,  8 wallclock secs ( 0.04 usr  0.02 sys +  0.26 cusr  0.10 csys =  0.42 CPU)
Result: PASS
make: warning:  Clock skew detected.  Your build may be incomplete.

------------------------------
PREREQUISITES
------------------------------

Prerequisite modules loaded:

requires:

    Module              Need Have    
    ------------------- ---- --------
    POSIX               0    1.30    
    Test::More          0    1.001002

build_requires:

    Module              Need Have    
    ------------------- ---- --------
    ExtUtils::MakeMaker 0    6.88    

configure_requires:

    Module              Need Have    
    ------------------- ---- --------
    ExtUtils::MakeMaker 0    6.88    


------------------------------
ENVIRONMENT AND OTHER CONTEXT
------------------------------

Environment variables:

    LANG = en_us.utf8
    LC_ALL = C
    LD_LIBRARY_PATH = /opt/perl/5.16.3/lib:/opt/rmblast/2.2.27/lib:/opt/Python/2.7.3/lib:/opt/R/3.0.2/lib64/R/lib:/opt/openmpi/1.8.1-torque-4.2.7/lib:/opt/openmpi/1.8.1-torque-4.2.7/lib/openmpi:/opt/torque/4.2.7/lib
    PATH = /opt/perl/5.16.3/packages/bin:/opt/perl/5.16.3/bin:/opt/wu-blast/2009-07/filter:/opt/wu-blast/2009-07:/opt/stajichlab/RepeatMasker/3-3-0:/opt/snap/2010-07-28/bin:/opt/stajichlab/cndsrc/2010.10.11/bin:/rhome/jstajich/bin:/opt/tmux/1.6/bin:/opt/vim/7.3/bin:/opt/java/jdk1.6.0_43/bin:/opt/Python/2.7.3/bin:/opt/R/3.0.2/bin:/opt/openmpi/1.8.1-torque-4.2.7/bin:/opt/torque/4.2.7/bin:/opt/torque/4.2.7/sbin:/usr/bin:/bin:/usr/local/games:/usr/games:/usr/local/bin:/rhome/jstajich/.rvm/bin:/rhome/jstajich/.rvm/bin:/opt/rmblast/2.2.27/bin
    PERL5LIB = /opt/perl/5.16.3/packages/lib/perl5
    PERL5OPT = 
    PERL5_CPANPLUS_IS_RUNNING = 14417
    PERL5_CPAN_IS_RUNNING = 14417
    PERL_MB_OPT = --install_base /opt/perl/5.16.3/packages
    PERL_MM_OPT = INSTALL_BASE=/opt/perl/5.16.3/packages
    SHELL = /bin/bash
    TERM = xterm

Perl special variables (and OS-specific diagnostics, for MSWin32):

    $^X = /opt/perl/5.16.3/bin/perl
    $UID/$EUID = 1181 / 1181
    $GID = 1001 122 300 1001 1011 1014 1028 1102
    $EGID = 1001 122 300 1001 1011 1014 1028 1102

Perl module toolchain versions installed:

    Module              Have    
    ------------------- --------
    CPAN                2.00    
    CPAN::Meta          2.133380
    Cwd                 3.40    
    ExtUtils::CBuilder  0.280212
    ExtUtils::Command   1.17    
    ExtUtils::Install   1.58    
    ExtUtils::MakeMaker 6.88    
    ExtUtils::Manifest  1.63    
    ExtUtils::ParseXS   3.16    
    File::Spec          3.40    
    JSON                2.90    
    JSON::PP            2.27203 
    Module::Build       0.4204  
    Module::Signature   0.73    
    Parse::CPAN::Meta   1.4409  
    Test::Harness       3.30    
    Test::More          1.001002
    YAML                0.88    
    YAML::Syck          n/a     
    version             0.9907  


--

Summary of my perl5 (revision 5 version 16 subversion 3) configuration:
   
  Platform:
    osname=linux, osvers=2.6.32-5-openvz-amd64, archname=x86_64-linux-ld
    uname='linux biocluster 2.6.32-5-openvz-amd64 #1 smp mon jan 16 17:49:19 utc 2012 x86_64 gnulinux '
    config_args=''
    hint=recommended, useposix=true, d_sigaction=define
    useithreads=undef, usemultiplicity=undef
    useperlio=define, d_sfio=undef, uselargefiles=define, usesocks=undef
    use64bitint=define, use64bitall=define, uselongdouble=define
    usemymalloc=n, bincompat5005=undef
  Compiler:
    cc='cc', ccflags ='-fno-strict-aliasing -pipe -fstack-protector -I/usr/local/include -D_LARGEFILE_SOURCE -D_FILE_OFFSET_BITS=64',
    optimize='-O2',
    cppflags='-fno-strict-aliasing -pipe -fstack-protector -I/usr/local/include'
    ccversion='', gccversion='4.4.5', gccosandvers=''
    intsize=4, longsize=8, ptrsize=8, doublesize=8, byteorder=12345678
    d_longlong=define, longlongsize=8, d_longdbl=define, longdblsize=16
    ivtype='long', ivsize=8, nvtype='long double', nvsize=16, Off_t='off_t', lseeksize=8
    alignbytes=16, prototype=define
  Linker and Libraries:
    ld='cc', ldflags =' -fstack-protector -L/usr/local/lib'
    libpth=/usr/local/lib /lib /usr/lib /usr/lib/x86_64-linux-gnu /lib64 /usr/lib64
    libs=-lnsl -lgdbm -ldb -ldl -lm -lcrypt -lutil -lc -lgdbm_compat
    perllibs=-lnsl -ldl -lm -lcrypt -lutil -lc
    libc=/lib/libc-2.11.3.so, so=so, useshrplib=false, libperl=libperl.a
    gnulibc_version='2.11.3'
  Dynamic Linking:
    dlsrc=dl_dlopen.xs, dlext=so, d_dlsymun=undef, ccdlflags='-Wl,-E'
    cccdlflags='-fPIC', lddlflags='-shared -O2 -L/usr/local/lib -fstack-protector'


Characteristics of this binary (from libperl): 
  Compile-time options: HAS_TIMES PERLIO_LAYERS PERL_DONT_CREATE_GVSV
                        PERL_MALLOC_WRAP PERL_PRESERVE_IVUV USE_64_BIT_ALL
                        USE_64_BIT_INT USE_LARGE_FILES USE_LOCALE
                        USE_LOCALE_COLLATE USE_LOCALE_CTYPE
                        USE_LOCALE_NUMERIC USE_LONG_DOUBLE USE_PERLIO
                        USE_PERL_ATOF
  Built under linux
  Compiled at Dec 30 2013 15:14:19
  %ENV:
    PERL5LIB="/opt/perl/5.16.3/packages/lib/perl5"
    PERL5OPT=""
    PERL5_CPANPLUS_IS_RUNNING="14417"
    PERL5_CPAN_IS_RUNNING="14417"
    PERL_MB_OPT="--install_base /opt/perl/5.16.3/packages"
    PERL_MM_OPT="INSTALL_BASE=/opt/perl/5.16.3/packages"
  @INC:
    /opt/perl/5.16.3/packages/lib/perl5/x86_64-linux-ld
    /opt/perl/5.16.3/packages/lib/perl5
    /opt/perl/5.16.3/lib/site_perl/5.16.3/x86_64-linux-ld
    /opt/perl/5.16.3/lib/site_perl/5.16.3
    /opt/perl/5.16.3/lib/5.16.3/x86_64-linux-ld
    /opt/perl/5.16.3/lib/5.16.3
    .