Report for Sys-SigAction-0.23

Back
From: metabase:user:314402c4-2aae-11df-837a-5e0a49663a4f
Subject: PASS Sys-SigAction-0.23 v5.12.3 GNU/Linux
Date: 2016-10-14T12:16:07Z

This distribution has been tested as part of the CPAN Testers
project, supporting the Perl programming language.  See
http://wiki.cpantesters.org/ for more information or email
questions to cpan-testers-discuss@perl.org


--
Dear Lincoln A Baxter,

This is a computer-generated report for Sys-SigAction-0.23
on perl 5.12.3, created by CPAN-Reporter-1.2011.

Thank you for uploading your work to CPAN.  Congratulations!
All tests were successful.

Sections of this report:

    * Tester comments
    * Program output
    * Prerequisites
    * Environment and other context

------------------------------
TESTER COMMENTS
------------------------------

Additional comments from tester:

none provided

------------------------------
PROGRAM OUTPUT
------------------------------

Output from '/usr/bin/make test':

PERL_DL_NONLAZY=1 "/mnt/part3/perl-5.12.3/bin/perl" "-MExtUtils::Command::MM" "-MTest::Harness" "-e" "undef *Test::Harness::Switches; test_harness(0, 'blib/lib', 'blib/arch')" t/*.t
t/alternatives.t ...... ok
t/inline_nested.t ..... ok
t/mask.t .............. ok
t/name.t .............. ok
t/number.t ............ ok
t/recursive_nested.t .. ok

         
     NOTE: Setting safe=>1... with masked signals does not seem to work.
     The problem is that the masked signals are not masked when safe=>1.
     When safe=>0 they are.  

     If you have an application for safe=>1 and can come up with a patch
     for this module that gets this test working, or a patch to the test
     that shows how to fix it, please send it to me. 

     See the block below this one... which if executed would test safe mode
     with masked signals... it is a clone of part of mask.t that proves this
     is broken.

     This test can be executed from the command line as follows:

         SAFE_T=1 perl -Ilib t/safe.t

     Lincoln

     

t/safe.t .............. ok
# delta time was 0.100410, timer was for 0.1 secconds
t/timeout.t ........... ok
All tests successful.
Files=8, Tests=87,  8 wallclock secs ( 0.03 usr  0.00 sys +  0.21 cusr  0.02 csys =  0.26 CPU)
Result: PASS

------------------------------
PREREQUISITES
------------------------------

Prerequisite modules loaded:

requires:

    Module              Need     Have    
    ------------------- -------- --------
    perl                5.006000 5.012003
    POSIX               0        1.19    
    Test::More          0        1.302059

build_requires:

    Module              Need     Have    
    ------------------- -------- --------
    ExtUtils::MakeMaker 0        7.24    

configure_requires:

    Module              Need     Have    
    ------------------- -------- --------
    ExtUtils::MakeMaker 0        7.24    


------------------------------
ENVIRONMENT AND OTHER CONTEXT
------------------------------

Environment variables:

    LANG = de_DE.UTF-8
    PATH = /usr/local/bin:/usr/bin:/bin:/usr/local/sbin:/usr/sbin:/sbin:/home/slaven.rezic/bin/linux-gnu:/home/slaven.rezic/bin/sh:/home/slaven.rezic/bin:/home/slaven.rezic/bin/pistachio-perl/bin:/usr/games:/home/slaven.rezic/devel:/home/slaven.rezic/work/drafts-slaven.rezic/misc:/home/slaven.rezic/src/srezic-misc/scripts
    PERL5LIB = 
    PERL5OPT = 
    PERL5_CPANPLUS_IS_RUNNING = 23230
    PERL5_CPAN_IS_RUNNING = 23230
    PERL5_CPAN_IS_RUNNING_IN_RECURSION = 23208,23230
    PERLDOC = -MPod::Perldoc::ToTextOverstrike
    PERL_BATCH = yes
    PERL_CANARY_STABILITY_NOPROMPT = 1
    PERL_CPAN_REPORTER_CONFIG = /var/tmp/cpansmoker-11577/2016101412/cpanreporter_000_config.ini
    PERL_EXTUTILS_AUTOINSTALL = --defaultdeps
    SHELL = /usr/bin/zsh
    STDPERL = /home/slaven.rezic/bin/pistachio-perl/bin/perl
    TERM = xterm
    TMPDIR = /var/tmp/cpansmoker-11577/2016101412

Perl special variables (and OS-specific diagnostics, for MSWin32):

    $^X = /mnt/part3/perl-5.12.3/bin/perl
    $UID/$EUID = 11577 / 11577
    $GID = 520 520 20007 20012 20019 20081 20147 20173 20192 20232 20263 20286 20287 20288 20293 20400
    $EGID = 520 520 20007 20012 20019 20081 20147 20173 20192 20232 20263 20286 20287 20288 20293 20400

Perl module toolchain versions installed:

    Module              Have    
    ------------------- --------
    CPAN                2.14    
    CPAN::Meta          2.150010
    Cwd                 3.47    
    ExtUtils::CBuilder  0.280224
    ExtUtils::Command   7.24    
    ExtUtils::Install   2.04    
    ExtUtils::MakeMaker 7.24    
    ExtUtils::Manifest  1.70    
    ExtUtils::ParseXS   3.30    
    File::Spec          3.47    
    JSON                2.90    
    JSON::PP            2.27400 
    Module::Build       0.4220  
    Module::Signature   n/a     
    Parse::CPAN::Meta   2.150010
    Test::Harness       3.33    
    Test::More          1.302059
    YAML                1.11    
    YAML::Syck          1.27    
    version             0.9909  


--

Summary of my perl5 (revision 5 version 12 subversion 3) configuration:
   
  Platform:
    osname=linux, osvers=3.2.0-57-generic, archname=x86_64-linux
    uname='linux ws30622 3.2.0-57-generic #87-ubuntu smp tue nov 12 21:35:10 utc 2013 x86_64 x86_64 x86_64 gnulinux '
    config_args='-ds -e -Dprefix=/opt/perl-5.12.3'
    hint=recommended, useposix=true, d_sigaction=define
    useithreads=undef, usemultiplicity=undef
    useperlio=define, d_sfio=undef, uselargefiles=define, usesocks=undef
    use64bitint=define, use64bitall=define, uselongdouble=undef
    usemymalloc=n, bincompat5005=undef
  Compiler:
    cc='cc', ccflags ='-fno-strict-aliasing -pipe -fstack-protector -I/usr/local/include -D_LARGEFILE_SOURCE -D_FILE_OFFSET_BITS=64',
    optimize='-O2',
    cppflags='-fno-strict-aliasing -pipe -fstack-protector -I/usr/local/include'
    ccversion='', gccversion='4.6.3', gccosandvers=''
    intsize=4, longsize=8, ptrsize=8, doublesize=8, byteorder=12345678
    d_longlong=define, longlongsize=8, d_longdbl=define, longdblsize=16
    ivtype='long', ivsize=8, nvtype='double', nvsize=8, Off_t='off_t', lseeksize=8
    alignbytes=8, prototype=define
  Linker and Libraries:
    ld='cc', ldflags =' -fstack-protector -L/usr/local/lib'
    libpth=/usr/local/lib /lib/x86_64-linux-gnu /lib/../lib /usr/lib/x86_64-linux-gnu /usr/lib/../lib /lib /usr/lib
    libs=-lnsl -ldb -ldl -lm -lcrypt -lutil -lc
    perllibs=-lnsl -ldl -lm -lcrypt -lutil -lc
    libc=libc-2.15.so, so=so, useshrplib=false, libperl=libperl.a
    gnulibc_version='2.15'
  Dynamic Linking:
    dlsrc=dl_dlopen.xs, dlext=so, d_dlsymun=undef, ccdlflags='-Wl,-E'
    cccdlflags='-fPIC', lddlflags='-shared -O2 -L/usr/local/lib -fstack-protector'


Characteristics of this binary (from libperl): 
  Compile-time options: PERL_DONT_CREATE_GVSV PERL_MALLOC_WRAP USE_64_BIT_ALL
                        USE_64_BIT_INT USE_LARGE_FILES USE_PERLIO
                        USE_PERL_ATOF
  Built under linux
  Compiled at Aug 13 2014 18:20:24
  %ENV:
    PERL5LIB=""
    PERL5OPT=""
    PERL5_CPANPLUS_IS_RUNNING="23230"
    PERL5_CPAN_IS_RUNNING="23230"
    PERL5_CPAN_IS_RUNNING_IN_RECURSION="23208,23230"
    PERLDOC="-MPod::Perldoc::ToTextOverstrike"
    PERL_BATCH="yes"
    PERL_CANARY_STABILITY_NOPROMPT="1"
    PERL_CPAN_REPORTER_CONFIG="/var/tmp/cpansmoker-11577/2016101412/cpanreporter_000_config.ini"
    PERL_EXTUTILS_AUTOINSTALL="--defaultdeps"
  @INC:
    /opt/perl-5.12.3/lib/site_perl/5.12.3/x86_64-linux
    /opt/perl-5.12.3/lib/site_perl/5.12.3
    /opt/perl-5.12.3/lib/5.12.3/x86_64-linux
    /opt/perl-5.12.3/lib/5.12.3
    .