Image-Base-Magick v7 Perl 5 v5.35.6 x86_64-linux

Status
Pass
From
Andreas J. K├Ânig (ANDK)
Dist
Image-Base-Magick v7
Platform
Perl 5 v5.35.6 x86_64-linux
Date
2021-12-08T11:57:15
ID
fc7e91b2-581d-11ec-9909-026acbd1c479
This distribution has been tested as part of the CPAN Testers
project, supporting the Perl programming language.  See
http://wiki.cpantesters.org/ for more information or email
questions to cpan-testers-discuss@perl.org


--
Dear Kevin Ryde,

This is a computer-generated report for Image-Base-Magick-7
on perl 5.35.6, created by CPAN-Reporter-1.2018.

Thank you for uploading your work to CPAN.  Congratulations!
All tests were successful.

Sections of this report:

    * Tester comments
    * Program output
    * Prerequisites
    * Environment and other context

------------------------------
TESTER COMMENTS
------------------------------

Additional comments from tester:

this report is from an automated smoke testing program
and was not reviewed by a human for accuracy

------------------------------
PROGRAM OUTPUT
------------------------------

Output from '/usr/bin/make test':

PERL_DL_NONLAZY=1 "/tmp/basesmoker-reloperl-Vcrn/bin/perl" "-MExtUtils::Command::MM" "-MTest::Harness" "-e" "undef *Test::Harness::Switches; test_harness(0, 'blib/lib', 'blib/arch')" t/*.t
t/Magick-use.t ..... ok
# Test::Weaken version 3.022000
t/Magick-weaken.t .. ok
# Image::Magick VERSION [undef]
# Tempfile tempfile.png
# Percentfile temp%d.png
# Numfile temp001.png
# check_image()
# check_diamond()
# Remove numfile temp001.png
# Remove percentfile temp%d.png
# Remove tempfile tempfile.png
t/Magick.t ......... ok
All tests successful.
Files=3, Tests=2520,  0 wallclock secs ( 0.10 usr  0.00 sys +  0.33 cusr  0.07 csys =  0.50 CPU)
Result: PASS

------------------------------
PREREQUISITES
------------------------------

Prerequisite modules loaded:

requires:

    Module              Need  Have    
    ------------------- ----- --------
    Image::Base         0     1.17    
    Image::Magick       0     0       
    perl                5.001 5.035006

build_requires:

    Module              Need  Have    
    ------------------- ----- --------
    ExtUtils::MakeMaker 0     7.62    
    Test                0     1.31    

configure_requires:

    Module              Need  Have    
    ------------------- ----- --------
    ExtUtils::MakeMaker 0     7.62    


------------------------------
ENVIRONMENT AND OTHER CONTEXT
------------------------------

Environment variables:

    AUTOMATED_TESTING = 1
    LANG = en_US.utf8
    PATH = /home/sand/bin:/usr/local/bin:/usr/local/sbin:/usr/sbin:/usr/bin:/sbin:/bin:/usr/games:/usr/local/games:/snap/bin:/usr/local/perl/bin:/usr/X11/bin
    PERL5LIB = /tmp/loop_over_bdir-11127-_NFUKe/LCFG-Build-Tools-0.9.30-0/blib/arch:/tmp/loop_over_bdir-11127-_NFUKe/LCFG-Build-Tools-0.9.30-0/blib/lib:/tmp/loop_over_bdir-11127-_NFUKe/Simulation-Automate-1.0.1-0/blib/arch:/tmp/loop_over_bdir-11127-_NFUKe/Simulation-Automate-1.0.1-0/blib/lib:/tmp/loop_over_bdir-11127-_NFUKe/CORBA-Python-2.66-0/blib/arch:/tmp/loop_over_bdir-11127-_NFUKe/CORBA-Python-2.66-0/blib/lib:/tmp/loop_over_bdir-11127-_NFUKe/Dpkg-1.21.1-0/blib/arch:/tmp/loop_over_bdir-11127-_NFUKe/Dpkg-1.21.1-0/blib/lib
    PERL5OPT = 
    PERL5_CPANPLUS_IS_RUNNING = 11135
    PERL5_CPAN_IS_RUNNING = 11135
    PERL_CANARY_STABILITY_NOPROMPT = 1
    PERL_MM_USE_DEFAULT = 1
    PERL_USE_UNSAFE_INC = 1
    SHELL = /usr/bin/zsh
    TERM = screen

Perl special variables (and OS-specific diagnostics, for MSWin32):

    $^X = /tmp/basesmoker-reloperl-Vcrn/bin/perl
    $UID/$EUID = 1005 / 1005
    $GID = 1005 1005
    $EGID = 1005 1005

Perl module toolchain versions installed:

    Module              Have    
    ------------------- --------
    CPAN                2.29    
    CPAN::Meta          2.150010
    Cwd                 3.82    
    ExtUtils::CBuilder  0.280236
    ExtUtils::Command   7.62    
    ExtUtils::Install   2.20    
    ExtUtils::MakeMaker 7.62    
    ExtUtils::Manifest  1.73    
    ExtUtils::ParseXS   3.44    
    File::Spec          3.81    
    JSON                4.03    
    JSON::PP            4.06    
    Module::Build       0.4231  
    Module::Signature   0.87    
    Parse::CPAN::Meta   2.150010
    Test::Harness       3.43    
    Test::More          1.302188
    YAML                1.30    
    YAML::Syck          1.34    
    version             0.9929  


--

Summary of my perl5 (revision 5 version 35 subversion 6) configuration:
  Commit id: 7badc7c896a8f12c680283f7fbf93fb1e22a24da
  Platform:
    osname=linux
    osvers=4.15.0-162-generic
    archname=x86_64-linux
    uname='linux k93bionic 4.15.0-162-generic #170-ubuntu smp mon oct 18 11:38:05 utc 2021 x86_64 x86_64 x86_64 gnulinux '
    config_args='-Dprefix=/home/sand/src/perl/repoperls/installed-perls/host/k93bionic/v5.35.6/2aaf -Dmyhostname=k93bionic -Dinstallusrbinperl=n -Uversiononly -Dusedevel -des -Ui_db -Dlibswanted=cl pthread socket inet nsl gdbm dbm malloc dl ld sun m crypt sec util c cposix posix ucb BSD gdbm_compat -Uuseithreads -Uuselongdouble -DEBUGGING=-g'
    hint=recommended
    useposix=true
    d_sigaction=define
    useithreads=undef
    usemultiplicity=undef
    use64bitint=define
    use64bitall=define
    uselongdouble=undef
    usemymalloc=n
    default_inc_excludes_dot=define
  Compiler:
    cc='cc'
    ccflags ='-fwrapv -fno-strict-aliasing -pipe -fstack-protector-strong -I/usr/local/include -D_LARGEFILE_SOURCE -D_FILE_OFFSET_BITS=64'
    optimize='-O2 -g'
    cppflags='-fwrapv -fno-strict-aliasing -pipe -fstack-protector-strong -I/usr/local/include'
    ccversion=''
    gccversion='7.5.0'
    gccosandvers=''
    intsize=4
    longsize=8
    ptrsize=8
    doublesize=8
    byteorder=12345678
    doublekind=3
    d_longlong=define
    longlongsize=8
    d_longdbl=define
    longdblsize=16
    longdblkind=3
    ivtype='long'
    ivsize=8
    nvtype='double'
    nvsize=8
    Off_t='off_t'
    lseeksize=8
    alignbytes=8
    prototype=define
  Linker and Libraries:
    ld='cc'
    ldflags =' -fstack-protector-strong -L/usr/local/lib'
    libpth=/usr/local/lib /usr/lib/x86_64-linux-gnu /usr/lib /lib/x86_64-linux-gnu /lib
    libs=-lpthread -lnsl -ldl -lm -lcrypt -lutil -lc
    perllibs=-lpthread -lnsl -ldl -lm -lcrypt -lutil -lc
    libc=libc-2.27.so
    so=so
    useshrplib=false
    libperl=libperl.a
    gnulibc_version='2.27'
  Dynamic Linking:
    dlsrc=dl_dlopen.xs
    dlext=so
    d_dlsymun=undef
    ccdlflags='-Wl,-E'
    cccdlflags='-fPIC'
    lddlflags='-shared -O2 -g -L/usr/local/lib -fstack-protector-strong'


Characteristics of this binary (from libperl): 
  Compile-time options:
    HAS_TIMES
    PERLIO_LAYERS
    PERL_COPY_ON_WRITE
    PERL_DONT_CREATE_GVSV
    PERL_MALLOC_WRAP
    PERL_OP_PARENT
    PERL_PRESERVE_IVUV
    PERL_USE_DEVEL
    USE_64_BIT_ALL
    USE_64_BIT_INT
    USE_LARGE_FILES
    USE_LOCALE
    USE_LOCALE_COLLATE
    USE_LOCALE_CTYPE
    USE_LOCALE_NUMERIC
    USE_LOCALE_TIME
    USE_PERLIO
    USE_PERL_ATOF
  Built under linux
  Compiled at Nov 30 2021 10:31:23
  %ENV:
    PERL5LIB="/tmp/loop_over_bdir-11127-_NFUKe/LCFG-Build-Tools-0.9.30-0/blib/arch:/tmp/loop_over_bdir-11127-_NFUKe/LCFG-Build-Tools-0.9.30-0/blib/lib:/tmp/loop_over_bdir-11127-_NFUKe/Simulation-Automate-1.0.1-0/blib/arch:/tmp/loop_over_bdir-11127-_NFUKe/Simulation-Automate-1.0.1-0/blib/lib:/tmp/loop_over_bdir-11127-_NFUKe/CORBA-Python-2.66-0/blib/arch:/tmp/loop_over_bdir-11127-_NFUKe/CORBA-Python-2.66-0/blib/lib:/tmp/loop_over_bdir-11127-_NFUKe/Dpkg-1.21.1-0/blib/arch:/tmp/loop_over_bdir-11127-_NFUKe/Dpkg-1.21.1-0/blib/lib"
    PERL5OPT=""
    PERL5_CPANPLUS_IS_RUNNING="11135"
    PERL5_CPAN_IS_RUNNING="11135"
    PERL_CANARY_STABILITY_NOPROMPT="1"
    PERL_MM_USE_DEFAULT="1"
    PERL_USE_UNSAFE_INC="1"
  @INC:
    /tmp/loop_over_bdir-11127-_NFUKe/LCFG-Build-Tools-0.9.30-0/blib/arch
    /tmp/loop_over_bdir-11127-_NFUKe/LCFG-Build-Tools-0.9.30-0/blib/lib
    /tmp/loop_over_bdir-11127-_NFUKe/Simulation-Automate-1.0.1-0/blib/arch
    /tmp/loop_over_bdir-11127-_NFUKe/Simulation-Automate-1.0.1-0/blib/lib
    /tmp/loop_over_bdir-11127-_NFUKe/CORBA-Python-2.66-0/blib/arch
    /tmp/loop_over_bdir-11127-_NFUKe/CORBA-Python-2.66-0/blib/lib
    /tmp/loop_over_bdir-11127-_NFUKe/Dpkg-1.21.1-0/blib/arch
    /tmp/loop_over_bdir-11127-_NFUKe/Dpkg-1.21.1-0/blib/lib
    /home/sand/src/perl/repoperls/installed-perls/host/k93bionic/v5.35.6/2aaf/lib/site_perl/5.35.6/x86_64-linux
    /home/sand/src/perl/repoperls/installed-perls/host/k93bionic/v5.35.6/2aaf/lib/site_perl/5.35.6
    /home/sand/src/perl/repoperls/installed-perls/host/k93bionic/v5.35.6/2aaf/lib/5.35.6/x86_64-linux
    /home/sand/src/perl/repoperls/installed-perls/host/k93bionic/v5.35.6/2aaf/lib/5.35.6
    .