Back
From: metabase:user:d2c9f356-b46f-11df-9a90-20a83c0b7757
Subject: PASS Image-Base-X11-Protocol-11 v5.14.1 SunOS/Solaris
Date: 2011-08-14T14:45:01Z
This distribution has been tested as part of the CPAN Testers
project, supporting the Perl programming language. See
http://wiki.cpantesters.org/ for more information or email
questions to cpan-testers-discuss@perl.org
--
Dear Kevin Ryde,
This is a computer-generated report for Image-Base-X11-Protocol-11
on perl 5.14.1, created by CPAN-Reporter-1.2001.
Thank you for uploading your work to CPAN. Congratulations!
All tests were successful.
Sections of this report:
* Tester comments
* Program output
* Prerequisites
* Environment and other context
------------------------------
TESTER COMMENTS
------------------------------
Additional comments from tester:
this report is from an automated smoke testing program
and was not reviewed by a human for accuracy
------------------------------
PROGRAM OUTPUT
------------------------------
Output from '/usr/local/bin/make test':
PERL_DL_NONLAZY=1 /export/home/cpant2/perl5/bin/perl5.14.1 "-MExtUtils::Command::MM" "-e" "test_harness(0, 'blib/lib', 'blib/arch')" t/*.t
t/Drawable-use.t .... ok
# DISPLAY localhost:12.0
# Image::Base version 1.16
#
# X server info
# vendor: The X.Org Foundation
# release_number: 11001000
# protocol_major_version: 11
# protocol_minor_version: 0
# byte_order: l
# num screens: 1
# width_in_pixels: 2560
# height_in_pixels: 1024
# width_in_millimeters: 677
# height_in_millimeters: 271
# root_visual: 33
# depth: 24
# class: 4 TrueColor
# colormap_entries: 256
# bits_per_rgb_value: 8
# red_mask: 0XFF0000
# green_mask: 0XFF00
# blue_mask: 0XFF
# image_byte_order: 0 LeastSignificant
# black_pixel: 0
# white_pixel: 0XFFFFFF
# chosen screen: 0
#
# use screen number 0 for checking
# MyTestImageBase on bitmap
# check_image()
# add_colours()
# MyTestImageBase on pixmap depth=24
# check_diamond()
# check_image()
# add_colours() check for error received
# add_colours() 5000
# add_colours() 5000 with seq wraparound
# run_seq_to_FFA0() 53029 steps to seq 65431
t/Drawable.t ........ ok
# Image::Base version 1.16
t/Pixmap.t .......... ok
t/Window-use.t ...... ok
# event VisibilityNotify
# visibility now Unobscured
# skip now [undef]
# check_image()
# check_diamond()
# SHAPE extension not available
t/Window-visible.t .. ok
# Image::Base version 1.16
t/Window.t .......... ok
All tests successful.
Files=6, Tests=12604, 19 wallclock secs ( 2.00 usr 0.14 sys + 6.58 cusr 1.00 csys = 9.72 CPU)
Result: PASS
------------------------------
PREREQUISITES
------------------------------
Prerequisite modules loaded:
requires:
Module Need Have
-------------------- ----- --------
Image::Base 0 1.16
perl 5.004 5.014001
Test 0 1.25_02
X11::Protocol 0.56 0.56
X11::Protocol::Other 3 11
build_requires:
Module Need Have
-------------------- ----- --------
ExtUtils::MakeMaker 0 6.59
configure_requires:
Module Need Have
-------------------- ----- --------
ExtUtils::MakeMaker 0 6.59
------------------------------
ENVIRONMENT AND OTHER CONTEXT
------------------------------
Environment variables:
AUTOMATED_TESTING = 1
LANG = C
LD_LIBRARY_PATH = /usr/local/lib:
PATH = /export/home/cpant2/perl5/bin:/usr/local/bin:/usr/bin
PERL5LIB = /export/home/cpant2/.cpan/build/Image-Base-1.16-po5FM2/blib/arch:/export/home/cpant2/.cpan/build/Image-Base-1.16-po5FM2/blib/lib:/export/home/cpant2/.cpan/build/X11-Protocol-Other-11-qAt8qC/blib/arch:/export/home/cpant2/.cpan/build/X11-Protocol-Other-11-qAt8qC/blib/lib:/export/home/cpant2/.cpan/build/X11-Protocol-0.56-bwaFQE/blib/arch:/export/home/cpant2/.cpan/build/X11-Protocol-0.56-bwaFQE/blib/lib
PERL5OPT =
PERL5_CPANPLUS_IS_RUNNING = 17361
PERL5_CPAN_IS_RUNNING = 17361
PERL5_CPAN_IS_RUNNING_IN_RECURSION = 11709,17361
PERL_CR_SMOKER_CURRENT = Image-Base-X11-Protocol-11
PERL_EXTUTILS_AUTOINSTALL = --defaultdeps
PERL_MM_USE_DEFAULT = 1
SHELL = /usr/bin/bash
TERM = xterm
Perl special variables (and OS-specific diagnostics, for MSWin32):
$^X = /export/home/cpant2/perl5/bin/perl5.14.1
$UID/$EUID = 101 / 101
$GID = 1 1
$EGID = 1 1
Perl module toolchain versions installed:
Module Have
------------------- --------
CPAN 1.9800
CPAN::Meta 2.112150
Cwd 3.36
ExtUtils::CBuilder 0.280203
ExtUtils::Command 1.17
ExtUtils::Install 1.56
ExtUtils::MakeMaker 6.59
ExtUtils::Manifest 1.59
ExtUtils::ParseXS 3.02
File::Spec 3.33
JSON 2.53
JSON::PP 2.27200
Module::Build 0.3800
Module::Signature n/a
Parse::CPAN::Meta 1.4401
Test::Harness 3.23
Test::More 0.98
YAML 0.73
YAML::Syck 1.17
version 0.93
--
Summary of my perl5 (revision 5 version 14 subversion 1) configuration:
Platform:
osname=solaris, osvers=2.10, archname=i86pc-solaris-64int
uname='sunos vmrz0046 5.10 generic_141445-09 i86pc i386 i86pc solaris '
config_args='-Dcc=gcc -Dprefix=~/perl5 -Duse64bitint -Dusedevel -d'
hint=recommended, useposix=true, d_sigaction=define
useithreads=undef, usemultiplicity=undef
useperlio=define, d_sfio=undef, uselargefiles=define, usesocks=undef
use64bitint=define, use64bitall=undef, uselongdouble=undef
usemymalloc=n, bincompat5005=undef
Compiler:
cc='gcc', ccflags ='-DPTR_IS_LONG -fno-strict-aliasing -pipe -I/usr/local/include -D_LARGEFILE_SOURCE -D_FILE_OFFSET_BITS=64 -DPERL_USE_SAFE_PUTENV',
optimize='-O',
cppflags='-DPTR_IS_LONG -fno-strict-aliasing -pipe -I/usr/local/include'
ccversion='', gccversion='3.4.6', gccosandvers='solaris2.10'
intsize=4, longsize=4, ptrsize=4, doublesize=8, byteorder=12345678
d_longlong=define, longlongsize=8, d_longdbl=define, longdblsize=12
ivtype='long long', ivsize=8, nvtype='double', nvsize=8, Off_t='off_t', lseeksize=8
alignbytes=4, prototype=define
Linker and Libraries:
ld='gcc', ldflags =' -L/usr/local/lib '
libpth=/usr/local/lib /usr/lib /usr/ccs/lib
libs=-lsocket -lnsl -lgdbm -ldl -lm -lc
perllibs=-lsocket -lnsl -ldl -lm -lc
libc=/lib/libc.so, so=so, useshrplib=false, libperl=libperl.a
gnulibc_version=''
Dynamic Linking:
dlsrc=dl_dlopen.xs, dlext=so, d_dlsymun=undef, ccdlflags=' '
cccdlflags='-fPIC', lddlflags='-G -L/usr/local/lib'
Characteristics of this binary (from libperl):
Compile-time options: PERL_DONT_CREATE_GVSV PERL_MALLOC_WRAP
PERL_PRESERVE_IVUV PERL_USE_DEVEL
PERL_USE_SAFE_PUTENV USE_64_BIT_INT USE_LARGE_FILES
USE_PERLIO USE_PERL_ATOF
Built under solaris
Compiled at Jun 17 2011 12:59:29
%ENV:
PERL5LIB="/export/home/cpant2/.cpan/build/Image-Base-1.16-po5FM2/blib/arch:/export/home/cpant2/.cpan/build/Image-Base-1.16-po5FM2/blib/lib:/export/home/cpant2/.cpan/build/X11-Protocol-Other-11-qAt8qC/blib/arch:/export/home/cpant2/.cpan/build/X11-Protocol-Other-11-qAt8qC/blib/lib:/export/home/cpant2/.cpan/build/X11-Protocol-0.56-bwaFQE/blib/arch:/export/home/cpant2/.cpan/build/X11-Protocol-0.56-bwaFQE/blib/lib"
PERL5OPT=""
PERL5_CPANPLUS_IS_RUNNING="17361"
PERL5_CPAN_IS_RUNNING="17361"
PERL5_CPAN_IS_RUNNING_IN_RECURSION="11709,17361"
PERL_CR_SMOKER_CURRENT="Image-Base-X11-Protocol-11"
PERL_EXTUTILS_AUTOINSTALL="--defaultdeps"
PERL_MM_USE_DEFAULT="1"
@INC:
/export/home/cpant2/.cpan/build/Image-Base-1.16-po5FM2/blib/arch
/export/home/cpant2/.cpan/build/Image-Base-1.16-po5FM2/blib/lib
/export/home/cpant2/.cpan/build/X11-Protocol-Other-11-qAt8qC/blib/arch
/export/home/cpant2/.cpan/build/X11-Protocol-Other-11-qAt8qC/blib/lib
/export/home/cpant2/.cpan/build/X11-Protocol-0.56-bwaFQE/blib/arch
/export/home/cpant2/.cpan/build/X11-Protocol-0.56-bwaFQE/blib/lib
/export/home/cpant2/perl5/lib/site_perl/5.14.1/i86pc-solaris-64int
/export/home/cpant2/perl5/lib/site_perl/5.14.1
/export/home/cpant2/perl5/lib/5.14.1/i86pc-solaris-64int
/export/home/cpant2/perl5/lib/5.14.1
/export/home/cpant2/perl5/lib/site_perl
.