Mojolicious v9.40 Perl 5 v5.36.3 arm64-freebsd-thread-multi

Status
Pass
From
Slaven Rezić
Dist
Mojolicious v9.40
Platform
Perl 5 v5.36.3 arm64-freebsd-thread-multi
Date
2025-05-12 13:21:20
ID
fe9adf78-2f33-11f0-9380-2ae76d8775ea
This distribution has been tested as part of the CPAN Testers
project, supporting the Perl programming language.  See
http://wiki.cpantesters.org/ for more information or email
questions to cpan-testers-discuss@perl.org


--
Dear Sebastian Riedel,

This is a computer-generated report for Mojolicious-9.40
on perl 5.36.3, created by CPAN-Reporter-1.2018.

Thank you for uploading your work to CPAN.  Congratulations!
All tests were successful.

Sections of this report:

    * Tester comments
    * Program output
    * Prerequisites
    * Environment and other context

------------------------------
TESTER COMMENTS
------------------------------

Additional comments from tester:

none provided

------------------------------
PROGRAM OUTPUT
------------------------------

Output from '/usr/bin/make test':

PERL_DL_NONLAZY=1 "/usr/local/bin/perl" "-MExtUtils::Command::MM" "-MTest::Harness" "-e" "undef *Test::Harness::Switches; test_harness(0, 'blib/lib', 'blib/arch')" t/*.t t/*/*.t
t/mojo/asset.t ............................. ok
t/mojo/base.t .............................. ok
t/mojo/base_util.t ......................... ok
t/mojo/bytestream.t ........................ ok
t/mojo/cache.t ............................. ok
t/mojo/cgi.t ............................... ok
t/mojo/collection.t ........................ ok
t/mojo/content.t ........................... ok
t/mojo/cookie.t ............................ ok
t/mojo/cookiejar.t ......................... ok
t/mojo/daemon.t ............................ ok
t/mojo/daemon_ipv6_tls.t ................... skipped: set TEST_IPV6 to enable this test (developer only!)
t/mojo/date.t .............................. ok
t/mojo/dom.t ............................... ok
t/mojo/dynamic_methods.t ................... ok
t/mojo/eventemitter.t ...................... ok
t/mojo/exception.t ......................... ok
t/mojo/file.t .............................. ok
t/mojo/file_download.t ..................... ok
t/mojo/headers.t ........................... ok
t/mojo/home.t .............................. ok
t/mojo/hypnotoad.t ......................... skipped: set TEST_HYPNOTOAD to enable this test (developer only!)
t/mojo/ioloop.t ............................ ok
t/mojo/ioloop_ipv6.t ....................... skipped: set TEST_IPV6 to enable this test (developer only!)
t/mojo/ioloop_tls.t ........................ skipped: set TEST_TLS to enable this test (developer only!)
t/mojo/json.t .............................. ok
t/mojo/json_pointer.t ...................... ok
t/mojo/json_xs.t ........................... skipped: Cpanel::JSON::XS 4.09+ required for this test!
t/mojo/loader.t ............................ ok
t/mojo/log.t ............................... ok
t/mojo/morbo.t ............................. skipped: set TEST_MORBO to enable this test (developer only!)
t/mojo/parameters.t ........................ ok
t/mojo/path.t .............................. ok
t/mojo/prefork.t ........................... skipped: set TEST_PREFORK to enable this test (developer only!)
t/mojo/promise.t ........................... ok
t/mojo/promise_async_await.t ............... skipped: set TEST_ASYNC_AWAIT to enable this test (developer only!)
t/mojo/proxy.t ............................. ok
t/mojo/psgi.t .............................. ok
t/mojo/reactor_detect.t .................... ok
t/mojo/reactor_ev.t ........................ skipped: set TEST_EV to enable this test (developer only!)
t/mojo/reactor_poll.t ...................... ok
t/mojo/request.t ........................... ok
t/mojo/request_cgi.t ....................... ok
t/mojo/response.t .......................... ok
t/mojo/roles.t ............................. ok
t/mojo/signatures.t ........................ ok
t/mojo/subprocess.t ........................ skipped: set TEST_SUBPROCESS to enable this test (developer only!)
t/mojo/subprocess_ev.t ..................... skipped: set TEST_SUBPROCESS to enable this test (developer only!)
t/mojo/template.t .......................... ok
t/mojo/tls.t ............................... skipped: set TEST_TLS to enable this test (developer only!)
t/mojo/transactor.t ........................ ok
t/mojo/url.t ............................... ok
t/mojo/user_agent.t ........................ ok
t/mojo/user_agent_online.t ................. skipped: set TEST_ONLINE to enable this test (developer only!)
t/mojo/user_agent_socks.t .................. skipped: set TEST_SOCKS to enable this test (developer only!)
t/mojo/user_agent_tls.t .................... skipped: set TEST_TLS to enable this test (developer only!)
t/mojo/user_agent_unix.t ................... skipped: set TEST_UNIX to enable this test (developer only!)
t/mojo/util.t .............................. ok
t/mojo/websocket.t ......................... ok
t/mojo/websocket_frames.t .................. ok
t/mojo/websocket_proxy.t ................... ok
t/mojo/websocket_proxy_tls.t ............... skipped: set TEST_TLS to enable this test (developer only!)
t/mojolicious/app.t ........................ ok
t/mojolicious/charset_lite_app.t ........... ok
t/mojolicious/command.t .................... ok
t/mojolicious/commands.t ................... ok
t/mojolicious/dispatch.t ................... ok
t/mojolicious/dispatcher_lite_app.t ........ ok
t/mojolicious/embedded_app.t ............... ok
t/mojolicious/embedded_lite_app.t .......... ok
t/mojolicious/exception_lite_app.t ......... ok
t/mojolicious/external_app.t ............... ok
t/mojolicious/external_lite_app.t .......... ok
t/mojolicious/group_lite_app.t ............. ok
t/mojolicious/json_config_lite_app.t ....... ok
t/mojolicious/json_config_mode_lite_app.t .. ok
t/mojolicious/layouted_lite_app.t .......... ok
t/mojolicious/lite_app.t ................... ok
t/mojolicious/log_lite_app.t ............... ok
t/mojolicious/longpolling_lite_app.t ....... ok
t/mojolicious/multipath_lite_app.t ......... ok
t/mojolicious/ojo.t ........................ ok
t/mojolicious/ojo_signatures.t ............. ok
t/mojolicious/pattern.t .................... ok
t/mojolicious/production_app.t ............. ok
t/mojolicious/proxy_app.t .................. ok
t/mojolicious/rebased_lite_app.t ........... ok
t/mojolicious/renderer.t ................... ok
t/mojolicious/restful_lite_app.t ........... ok
t/mojolicious/routes.t ..................... ok
t/mojolicious/session_lite_app.t ........... ok
t/mojolicious/signatures_lite_app.t ........ ok
t/mojolicious/static_lite_app.t ............ ok
t/mojolicious/static_prefix_lite_app.t ..... ok
t/mojolicious/tag_helper_lite_app.t ........ ok
t/mojolicious/testing_app.t ................ ok
t/mojolicious/tls_lite_app.t ............... skipped: set TEST_TLS to enable this test (developer only!)
t/mojolicious/twinkle_lite_app.t ........... ok
t/mojolicious/types.t ...................... ok
t/mojolicious/upload_lite_app.t ............ ok
t/mojolicious/upload_stream_lite_app.t ..... ok
t/mojolicious/validation_lite_app.t ........ ok
t/mojolicious/websocket_lite_app.t ......... ok
t/mojolicious/yaml_config_lite_app.t ....... ok
t/pod.t .................................... skipped: set TEST_POD to enable this test (developer only!)
t/pod_coverage.t ........................... skipped: set TEST_POD to enable this test (developer only!)
t/test/mojo.t .............................. ok
All tests successful.
Files=107, Tests=4286, 53 wallclock secs ( 1.69 usr  0.44 sys + 39.31 cusr  4.61 csys = 46.05 CPU)
Result: PASS

------------------------------
PREREQUISITES
------------------------------

Prerequisite modules loaded:

requires:

    Module              Need  Have    
    ------------------- ----- --------
    IO::Socket::IP      0.37  0.43    
    perl                5.016 5.036003
    Sub::Util           1.41  1.62    

build_requires:

    Module              Need  Have    
    ------------------- ----- --------
    ExtUtils::MakeMaker 0     7.64    

configure_requires:

    Module              Need  Have    
    ------------------- ----- --------
    ExtUtils::MakeMaker 0     7.64    


------------------------------
ENVIRONMENT AND OTHER CONTEXT
------------------------------

Environment variables:

    LANG = C.UTF-8
    PATH = /usr/local/bin:/usr/bin:/bin:/usr/local/sbin:/usr/sbin:/sbin:/home/cpansand/bin/sh:/home/cpansand/bin:/usr/games:/home/cpansand/devel:/home/eserte/src/srezic-misc/scripts
    PERL5LIB = 
    PERL5OPT = 
    PERL5_CPANPLUS_IS_RUNNING = 4518
    PERL5_CPAN_IS_RUNNING = 4518
    PERL5_CPAN_IS_RUNNING_IN_RECURSION = 4505,4518
    PERL_BATCH = yes
    PERL_CANARY_STABILITY_NOPROMPT = 1
    PERL_CPAN_REPORTER_CONFIG = /var/tmp/cpansmoker-1023/2025051213/cpanreporter_000_config.ini
    PERL_EXTUTILS_AUTOINSTALL = --defaultdeps
    PERL_USE_UNSAFE_INC = 1
    SHELL = /bin/sh
    TMPDIR = /var/tmp/cpansmoker-1023/2025051213

Perl special variables (and OS-specific diagnostics, for MSWin32):

    $^X = /usr/local/bin/perl
    $UID/$EUID = 1023 / 1023
    $GID = 1023 1023
    $EGID = 1023 1023

Perl module toolchain versions installed:

    Module              Have    
    ------------------- --------
    CPAN                2.33    
    CPAN::Meta          2.150010
    Cwd                 3.84    
    ExtUtils::CBuilder  0.280236
    ExtUtils::Command   7.64    
    ExtUtils::Install   2.20    
    ExtUtils::MakeMaker 7.64    
    ExtUtils::Manifest  1.73    
    ExtUtils::ParseXS   3.45    
    File::Spec          3.84    
    JSON                4.10    
    JSON::PP            4.07    
    Module::Build       n/a     
    Module::Signature   n/a     
    Parse::CPAN::Meta   2.150010
    Test::Harness       3.44    
    Test::More          1.302209
    YAML                n/a     
    YAML::Syck          1.34    
    version             0.9929  


--

Summary of my perl5 (revision 5 version 36 subversion 3) configuration:
   
  Platform:
    osname=freebsd
    osvers=14.0-release-p9
    archname=arm64-freebsd-thread-multi
    uname='freebsd 140arm64-default-job-03 14.0-release-p9 freebsd 14.0-release-p9 arm64 '
    config_args='-Accflags=-DUSE_THREAD_SAFE_LOCALE -Darchlib=/usr/local/lib/perl5/5.36/mach -Dcc=cc -Dcf_by=mat -Dcf_email=mat@FreeBSD.org -Dcf_time=Wed Nov 29 16:10:26 UTC 2023 -Dinc_version_list=none -Dlibperl=libperl.so.5.36.3 -Dman1dir=/usr/local/lib/perl5/5.36/perl/man/man1 -Dman3dir=/usr/local/lib/perl5/5.36/perl/man/man3 -Dprefix=/usr/local -Dprivlib=/usr/local/lib/perl5/5.36 -Dscriptdir=/usr/local/bin -Dsitearch=/usr/local/lib/perl5/site_perl/mach/5.36 -Dsitelib=/usr/local/lib/perl5/site_perl -Dsiteman1dir=/usr/local/lib/perl5/site_perl/man/man1 -Dsiteman3dir=/usr/local/lib/perl5/site_perl/man/man3 -Dusenm=n -Duseshrplib -sde -Ui_iconv -Ui_malloc -Uinstallusrbinperl -Alddlflags=-L/wrkdirs/usr/ports/lang/perl5.36/work/perl-5.36.3 -L/usr/local/lib/perl5/5.36/mach/CORE -lperl -Dshrpldflags=$(LDDLFLAGS:N-L/wrkdirs/usr/ports/lang/perl5.36/work/perl-5.36.3:N-L/usr/local/lib/perl5/5.36/mach/CORE:N-lperl) -Wl,-soname,$(LIBPERL:R) -Doptimize=-O2 -pipe  -fstack-protector-strong -fno-strict-aliasing  -Uusedtrace -Ui_gdbm -Dusemultiplicity=y -Duse64bitint -Dusemymalloc=n -Dusethreads=y'
    hint=recommended
    useposix=true
    d_sigaction=define
    useithreads=define
    usemultiplicity=define
    use64bitint=define
    use64bitall=define
    uselongdouble=undef
    usemymalloc=n
    default_inc_excludes_dot=define
  Compiler:
    cc='cc'
    ccflags ='-DHAS_FPSETMASK -DHAS_FLOATINGPOINT_H -DUSE_THREAD_SAFE_LOCALE -fno-strict-aliasing -pipe -fstack-protector-strong -I/usr/local/include'
    optimize='-O2 -pipe -fstack-protector-strong -fno-strict-aliasing '
    cppflags='-DHAS_FPSETMASK -DHAS_FLOATINGPOINT_H -DUSE_THREAD_SAFE_LOCALE -fno-strict-aliasing -pipe -fstack-protector-strong -I/usr/local/include'
    ccversion=''
    gccversion='FreeBSD Clang 16.0.6 (https://github.com/llvm/llvm-project.git llvmorg-16.0.6-0-g7cbf1a259152)'
    gccosandvers=''
    intsize=4
    longsize=8
    ptrsize=8
    doublesize=8
    byteorder=12345678
    doublekind=3
    d_longlong=define
    longlongsize=8
    d_longdbl=define
    longdblsize=16
    longdblkind=1
    ivtype='long'
    ivsize=8
    nvtype='double'
    nvsize=8
    Off_t='off_t'
    lseeksize=8
    alignbytes=8
    prototype=define
  Linker and Libraries:
    ld='cc'
    ldflags ='-pthread -Wl,-E  -fstack-protector-strong -L/usr/local/lib'
    libpth=/usr/lib /usr/local/lib /usr/lib/clang/16/lib
    libs=-ldl -lm -lcrypt -lutil
    perllibs=-ldl -lm -lcrypt -lutil
    libc=
    so=so
    useshrplib=true
    libperl=libperl.so.5.36.3
    gnulibc_version=''
  Dynamic Linking:
    dlsrc=dl_dlopen.xs
    dlext=so
    d_dlsymun=undef
    ccdlflags='  -Wl,-R/usr/local/lib/perl5/5.36/mach/CORE'
    cccdlflags='-DPIC -fPIC'
    lddlflags='-shared  -L/usr/local/lib/perl5/5.36/mach/CORE -lperl -L/usr/local/lib -fstack-protector-strong'


Characteristics of this binary (from libperl): 
  Compile-time options:
    HAS_TIMES
    MULTIPLICITY
    PERLIO_LAYERS
    PERL_COPY_ON_WRITE
    PERL_DONT_CREATE_GVSV
    PERL_MALLOC_WRAP
    PERL_OP_PARENT
    PERL_PRESERVE_IVUV
    USE_64_BIT_ALL
    USE_64_BIT_INT
    USE_ITHREADS
    USE_LARGE_FILES
    USE_LOCALE
    USE_LOCALE_COLLATE
    USE_LOCALE_CTYPE
    USE_LOCALE_NUMERIC
    USE_LOCALE_TIME
    USE_PERLIO
    USE_PERL_ATOF
    USE_REENTRANT_API
    USE_THREAD_SAFE_LOCALE
  Built under freebsd
  %ENV:
    PERL5LIB=""
    PERL5OPT=""
    PERL5_CPANPLUS_IS_RUNNING="4518"
    PERL5_CPAN_IS_RUNNING="4518"
    PERL5_CPAN_IS_RUNNING_IN_RECURSION="4505,4518"
    PERL_BATCH="yes"
    PERL_CANARY_STABILITY_NOPROMPT="1"
    PERL_CPAN_REPORTER_CONFIG="/var/tmp/cpansmoker-1023/2025051213/cpanreporter_000_config.ini"
    PERL_EXTUTILS_AUTOINSTALL="--defaultdeps"
    PERL_USE_UNSAFE_INC="1"
  @INC:
    /usr/local/lib/perl5/site_perl/mach/5.36
    /usr/local/lib/perl5/site_perl
    /usr/local/lib/perl5/5.36/mach
    /usr/local/lib/perl5/5.36
    .